Workbook

Sheet Duty
A1: DATE | B1: Race | C1: Name | D1: Role | E1: Assistant | F1: Courses | G1: Comment | H1: Kesson | I1: Riggs | J1: Smith | K1: Matton | L1: Oppel | M1: Hayes | N1: Northrup | O1: Eaton
A2: 2013
A3: 41409 | B3: Swabbie | C3: kesson | D3: PRO | E3: northrup | G3: abandon | H3: y | N3: y
A4: 41416 | B4: Summer 1 | C4: kesson | D4: PRO | E4: connelly #14 & viloudaki | G4: abandon | H4: y
A5: 41423 | B5: Summer 2 | C5: kesson | D5: PRO | E5: viloudaki #17 | F5: P10[3] | G5: complete | H5: y
A6: 41430 | B6: Summer 3 | C6: MATTON | D6: PRO | E6: lynch #16 | F6: R2 | G6: complete | I6: N
A7: 41437 | B7: Summer 4 | C7: MATTON | D7: PRO | E7: Hayes #19 | F7: R6 | G7: complete | I7: N | M7: y
A8: 41444 | B8: Summer 5 | C8: smith | D8: PRO | E8: Gump | F8: O1[2] | G8: complete | J8: y
A9: 41451 | B9: Summer 6 | C9: smith | D9: PRO | E9: Philips | F9: P1 | G9: complete | J9: y
A10: 41458 | B10: Summer 7 | C10: RIGGS | D10: PRO | E10: NONE | F10: P2 | G10: comlete | I10: y
A11: 41465 | B11: Summer 8 | C11: RIGGS | D11: PRO | E11: Newsom | F11: P10 | G11: complete | I11: y
A12: 41472 | B12: Summer 9 | C12: oppel | D12: PRO | E12: oppel | F12: P1[2] | G12: complete | L12: y
A13: 41479 | B13: Summer 10 | C13: oppel | D13: PRO | E13: pIncze | G13: abandon | L13: y
A14: 41482 | B14: Winslow | C14: kesson | D14: PRO | G14: complete | H14: y
B15: Winslow | C15: northrup | D15: signal boat | G15: complete | N15: y
B16: Winslow | C16: eaton | D16: signal boat staff | G16: complete | O16: y
B17: Winslow | C17: hauquitz | D17: signal boat staff | G17: complete
B18: Winslow | C18: riggs | D18: judge | G18: complete | I18: ?
B19: Winslow | C19: smith | D19: mark boat officer | G19: complete | J19: y
B20: Winslow | C20: gump | D20: mark boat staff | G20: complete
A21: 41486 | B21: Fall 1 | C21: riggs | D21: PRO | E21: 18 Bmoyer | F21: P6 | G21: complete | I21: y
A22: 41493 | B22: Fall 2 | C22: riggs | D22: PRO | E22: 12 Dphilips | F22: O2 | G22: complete | I22: y
A23: 41500 | B23: Fall 3 | C23: oppel | D23: PRO | E23: 7 son | F23: 13p 12p [2] | G23: complete | L23: y
A24: 41507 | B24: Fall 4 | C24: oppel | D24: PRO | E24: 8 Bmitchell | F24: R1[2] | G24: complete | L24: y
A25: 41514 | B25: Fall 5 | C25: matton | D25: PRO | E25: 19 THayes | G25: abandon | K25: y | M25: y
A26: 41521 | B26: Fall 6 | C26: matton | D26: PRO | E26: 15 Schuldheiss | F26: P3 | G26: complete | K26: y
A27: 41528 | B27: Fall 7 | C27: smith | D27: PRO | E27: 16 Connelly | F27: R1[2] | G27: complete | J27: y
A28: 41531 | B28: SORI | C28: matton | D28: PRO | G28: complete | K28: y
B29: SORI | D29: signal boat | G29: complete
B30: SORI | D30: signal boat staff | G30: complete
B31: SORI | C31: eaton | D31: mark boat staff | G31: complete | O31: y
B32: SORI | C32: kesson | D32: mark boat officer | G32: complete | H32: y
B33: SORI | C33: northrup | D33: mark boat staff | G33: complete | N33: y
A34: 41535 | B34: Fall 8 | C34: smith | D34: PRO | E34: 17 Incze | F34: P2 | G34: complete | J34: y
A35: 41532 | B35: Fall 9 | C35: kesson | D35: PRO | E35: 5 DeAscentis | F35: 12p 13p [2] | G35: complete | H35: y
A36: 41549 | B36: Fall 10 | C36: kesson | D36: PRO | E36: 13 Eaton | F36: 15p 12p -> S | G36: complete | H36: y | O36: y
A37: 41551 | B37: NWC-PC | C37: Alyn | D37: PRO | G37: rescheduled
B38: NWC-PC | D38: signal boat
B39: NWC-PC | D39: signal boat staff
B40: NWC-PC | D40: scorer
...

Sheet ROARS
A1: Volunteer Name | B1: Event Name | C1: Event Category | D1: Event Date | E1: Event Role | F1: Hours | G1: Comment
A2: chuck kesson | B2: Jan RM-RC mtng | C2: meeting | D2: 41290 | E2: chair | F2: 1
A3: ron oard | B3: Jan RM-RC mtng | C3: meeting | D3: 41290 | E3: participant | F3: 1
A4: doug smith | B4: Jan RM-RC mtng | C4: meeting | D4: 41290 | E4: participant | F4: 1
A5: ben riggs | B5: Jan RM-RC mtng | C5: meeting | D5: 41290 | E5: participant | F5: 1
A6: rick matton | B6: Jan RM-RC mtng | C6: meeting | D6: 41290 | E6: participant | F6: 1
A7: tim daly | B7: Jan RM-RC mtng | C7: meeting | D7: 41290 | E7: participant | F7: 1
A8: ginny lautieri | B8: Jan RM-RC mtng | C8: meeting | D8: 41290 | E8: participant | F8: 1
A9: chuck kesson | B9: Feb RM-RC mtng | C9: meeting | D9: 41325 | E9: chair | F9: 1
A10: paul schmidle | B10: feb RM-RC mtng | C10: meeting | D10: 41325 | E10: participant | F10: 1
A11: tripp alyn | B11: feb RM-RC mtng | C11: meeting | D11: 41325 | E11: participant | F11: 1
A12: sheryle northrup | B12: feb RM-RC mtng | C12: meeting | D12: 41325 | E12: participant | F12: 1
A13: ginny lautieri | B13: feb RM-RC mtng | C13: meeting | D13: 41325 | E13: participant | F13: 1
... A68: Eaton #13 | B68: fall | C68: wed series | D68: 41549 | E68: signal staff | F68: 3
F70: =SUM(F17:F68) -> 214
A75: kesson | B75: practice | D75: 41773 | E75: PRO

Sheet RC expenses
A1: Date | B1: Item | C1: Quantity | D1: Cost | E1: Source | F1: Invoice | G1: Comment | H1: Payment
A2: 41246 | B2: Megaphone | C2: 1 | D2: 33.99 | E2: B&H | G2: replacement
B3: RRS Book $19.95 | C3: 1 | D3: 0 | E3: US Sailing | G3: waterproof for tub | H3: from BillKneller
A4: 41416 | B4: Whiteboard | C4: 1 | D4: 7.95 | E4: Wal-mart | G4: replacement
A5: 41456 | B5: ss quick clips and Cx | C5: 4 | D5: 49.17 | E5: One Stop | G5: ground tackle
A6: 41466 | B6: anchor line 3/8in thimble and tape | C6: 1 | D6: 49.9 | E6: Newport Nautical | G6: pin ground tackle replacement
A7: 41467 | B7: 12# mushroom | C7: 1 | D7: 38.41 | E7: Newport Nautical | G7: pin anchor replacement
A8: 41482 | B8: Winslow ice | C8: 3 | D8: 4.5 | E8: MWR | G8: winslow race committee
A9: 41482 | B9: Winslow subway | C9: 6 | D9: 38.84 | E9: Subway | G9: winslow race committee
D10: =SUM(D2:D9) -> 222.76 | F10: 41483 | H10: 41505
A12: 41532 | B12: SORI ice for race cmte | C12: 2 | D12: 3 | E12: MWR | G12: ice for coolers
A13: 41539 | B13: orange boxes for Ollie and RC | D13: 60.39 | E13: west marine | G13: replacement
A14: 41539 | B14: batteries AAA and C packages | C14: 2 | D14: 24.98 | E14: BJ | G14: replacement
A15: 41544 | B15: cable ties package | C15: 2 | D15: 3.94 | E15: Walmart
A16: 41544 | B16: dry erase markers | C16: 3 | D16: 3.77 | E16: Walmart
A17: 41599 | B17: safety reflective yellow striping | C17: 1 | D17: 240.88 | E17: Amazon | G17: SRM 15 refirb
D19: =SUM(D12:D17) -> 336.96 | F19: 41600 | H19: 41609
B21: total race cmite expense 2013 | D21: =SUM(D10,D19) -> 559.72
A25: 2014
A26: 41666 | B26: Hy-flier buoy 3/4in 10ft no reflector | D26: 76 | E26: New England Marine and Industrial Supply | G26: pin replacement delivered 20 Mar
A27: 41690 | B27: safety ladder - 4 step - folding | D27: 20 | E27: Npt Nautical | G27: consignment - delivered
A28: 41718 | B28: hi-viz safety vests | D28: 10 | E28: JobLot | G28: delivered

Sheet DV-IDENTITY-0
A1: AAAAAF/F/QA= | B1: =AND(Duty!A1,"AAAAAF/F/QE=") -> #VALUE! | C1: =AND(Duty!B1,"AAAAAF/F/QI=") -> #VALUE! | D1: =AND(Duty!C1,"AAAAAF/F/QM=") -> #VALUE! | E1: =AND(Duty!D1,"AAAAAF/F/QQ=") -> #VALUE! | F1: =AND(Duty!#REF!,"AAAAAF/F/QU=") -> #REF! | G1: =AND(Duty!G1,"AAAAAF/F/QY=") -> #VALUE! | H1: =AND(Duty!H1,"AAAAAF/F/Qc=") -> #VALUE! | I1: =AND(Duty!I1,"AAAAAF/F/Qg=") -> #VALUE! | J1: =AND(Duty!J1,"AAAAAF/F/Qk=") -> #VALUE! | K1: =AND(Duty!K1,"AAAAAF/F/Qo=") -> #VALUE! | L1: =AND(Duty!L1,"AAAAAF/F/Qs=") -> #VALUE! | M1: =AND(Duty!M1,"AAAAAF/F/Qw=") -> #VALUE! | N1: =AND(Duty!#REF!,"AAAAAF/F/Q0=") -> #REF! | O1: =AND(Duty!N1,"AAAAAF/F/Q4=") -> #VALUE! | P1: =AND(Duty!#REF!,"AAAAAF/F/Q8=") -> #REF! | Q1: =AND(Duty!#REF!,"AAAAAF/F/RA=") -> #REF! | R1: =AND(Duty!#REF!,"AAAAAF/F/RE=") -> #REF! | S1: =AND(Duty!#REF!,"AAAAAF/F/RI=") -> #REF! | T1: 0 | U1: =AND(Duty!A3,"AAAAAF/F/RQ=") -> #VALUE! | V1: =AND(Duty!B3,"AAAAAF/F/RU=") -> #VALUE! | W1: =AND(Duty!C3,"AAAAAF/F/RY=") -> #VALUE! | X1: =AND(Duty!D3,"AAAAAF/F/Rc=") -> #VALUE! | Y1: =AND(Duty!#REF!,"AAAAAF/F/Rg=") -> #REF! | Z1: =AND(Duty!G3,"AAAAAF/F/Rk=") -> #VALUE! | AA1: =AND(Duty!H3,"AAAAAF/F/Ro=") -> #VALUE! | AB1: =AND(Duty!I3,"AAAAAF/F/Rs=") -> #VALUE! | AC1: =AND(Duty!J3,"AAAAAF/F/Rw=") -> #VALUE! | AD1: =AND(Duty!K3,"AAAAAF/F/R0=") -> #VALUE! | AE1: =AND(Duty!L3,"AAAAAF/F/R4=") -> #VALUE! | AF1: =AND(Duty!M3,"AAAAAF/F/R8=") -> #VALUE! | AG1: =AND(Duty!#REF!,"AAAAAF/F/SA=") -> #REF! | AH1: =AND(Duty!N3,"AAAAAF/F/SE=") -> #VALUE! | AI1: =AND(Duty!#REF!,"AAAAAF/F/SI=") -> #REF! | AJ1: =AND(Duty!#REF!,"AAAAAF/F/SM=") -> #REF! | AK1: =AND(Duty!#REF!,"AAAAAF/F/SQ=") -> #REF! | AL1: =AND(Duty!O3,"AAAAAF/F/SU=") -> #VALUE! | AM1: 0 | AN1: =AND(Duty!A4,"AAAAAF/F/Sc=") -> #VALUE! | AO1: =AND(Duty!B4,"AAAAAF/F/Sg=") -> #VALUE! | AP1: =AND(Duty!C4,"AAAAAF/F/Sk=") -> #VALUE! | AQ1: =AND(Duty!D4,"AAAAAF/F/So=") -> #VALUE! | AR1: =AND(Duty!#REF!,"AAAAAF/F/Ss=") -> #REF! | AS1: =AND(Duty!G4,"AAAAAF/F/Sw=") -> #VALUE! | AT1: =AND(Duty!H4,"AAAAAF/F/S0=") -> #VALUE! | AU1: =AND(Duty!I4,"AAAAAF/F/S4=") -> #VALUE! | AV1: =AND(Duty!J4,"AAAAAF/F/S8=") -> #VALUE! | AW1: =AND(Duty!K4,"AAAAAF/F/TA=") -> #VALUE! | AX1: =AND(Duty!L4,"AAAAAF/F/TE=") -> #VALUE! | AY1: =AND(Duty!M4,"AAAAAF/F/TI=") -> #VALUE! | AZ1: =AND(Duty!#REF!,"AAAAAF/F/TM=") -> #REF! | BA1: =AND(Duty!N4,"AAAAAF/F/TQ=") -> #VALUE! | BB1: =AND(Duty!#REF!,"AAAAAF/F/TU=") -> #REF! | BC1: =AND(Duty!#REF!,"AAAAAF/F/TY=") -> #REF! | BD1: =AND(Duty!#REF!,"AAAAAF/F/Tc=") -> #REF! | BE1: =AND(Duty!#REF!,"AAAAAF/F/Tg=") -> #REF! | BF1: 0 | BG1: =AND(Duty!A5,"AAAAAF/F/To=") -> #VALUE! | BH1: =AND(Duty!B5,"AAAAAF/F/Ts=") -> #VALUE! | BI1: =AND(Duty!C5,"AAAAAF/F/Tw=") -> #VALUE! | BJ1: =AND(Duty!D5,"AAAAAF/F/T0=") -> #VALUE! | BK1: =AND(Duty!#REF!,"AAAAAF/F/T4=") -> #REF! | BL1: =AND(Duty!G5,"AAAAAF/F/T8=") -> #VALUE! | BM1: =AND(Duty!H5,"AAAAAF/F/UA=") -> #VALUE! | BN1: =AND(Duty!I5,"AAAAAF/F/UE=") -> #VALUE! | BO1: =AND(Duty!J5,"AAAAAF/F/UI=") -> #VALUE! | BP1: =AND(Duty!K5,"AAAAAF/F/UM=") -> #VALUE! | BQ1: =AND(Duty!L5,"AAAAAF/F/UQ=") -> #VALUE! | BR1: =AND(Duty!M5,"AAAAAF/F/UU=") -> #VALUE! | BS1: =AND(Duty!#REF!,"AAAAAF/F/UY=") -> #REF! | BT1: =AND(Duty!N5,"AAAAAF/F/Uc=") -> #VALUE! | BU1: =AND(Duty!#REF!,"AAAAAF/F/Ug=") -> #REF! | BV1: =AND(Duty!#REF!,"AAAAAF/F/Uk=") -> #REF! | BW1: =AND(Duty!#REF!,"AAAAAF/F/Uo=") -> #REF! | BX1: =AND(Duty!O5,"AAAAAF/F/Us=") -> #VALUE! | BY1: 0 | BZ1: =AND(Duty!A6,"AAAAAF/F/U0=") -> #VALUE! | CA1: =AND(Duty!B6,"AAAAAF/F/U4=") -> #VALUE! | CB1: =AND(Duty!C6,"AAAAAF/F/U8=") -> #VALUE! | CC1: =AND(Duty!D6,"AAAAAF/F/VA=") -> #VALUE! | CD1: =AND(Duty!#REF!,"AAAAAF/F/VE=") -> #REF! | CE1: =AND(Duty!G6,"AAAAAF/F/VI=") -> #VALUE! | CF1: =AND(Duty!H6,"AAAAAF/F/VM=") -> #VALUE! | CG1: =AND(Duty!I6,"AAAAAF/F/VQ=") -> #VALUE! | CH1: =AND(Duty!J6,"AAAAAF/F/VU=") -> #VALUE! | CI1: =AND(Duty!K6,"AAAAAF/F/VY=") -> #VALUE! | CJ1: =AND(Duty!L6,"AAAAAF/F/Vc=") -> #VALUE! | CK1: =AND(Duty!M6,"AAAAAF/F/Vg=") -> #VALUE! | CL1: =AND(Duty!#REF!,"AAAAAF/F/Vk=") -> #REF! | CM1: =AND(Duty!N6,"AAAAAF/F/Vo=") -> #VALUE! | CN1: =AND(Duty!#REF!,"AAAAAF/F/Vs=") -> #REF! | CO1: =AND(Duty!#REF!,"AAAAAF/F/Vw=") -> #REF! | CP1: =AND(Duty!#REF!,"AAAAAF/F/V0=") -> #REF! | CQ1: =AND(Duty!O6,"AAAAAF/F/V4=") -> #VALUE! | CR1: 0 | CS1: =AND(Duty!A7,"AAAAAF/F/WA=") -> #VALUE! | CT1: =AND(Duty!B7,"AAAAAF/F/WE=") -> #VALUE! | CU1: =AND(Duty!C7,"AAAAAF/F/WI=") -> #VALUE! | CV1: =AND(Duty!D7,"AAAAAF/F/WM=") -> #VALUE! | CW1: =AND(Duty!#REF!,"AAAAAF/F/WQ=") -> #REF! | CX1: =AND(Duty!G7,"AAAAAF/F/WU=") -> #VALUE! | CY1: =AND(Duty!H7,"AAAAAF/F/WY=") -> #VALUE! | CZ1: =AND(Duty!I7,"AAAAAF/F/Wc=") -> #VALUE! | DA1: =AND(Duty!J7,"AAAAAF/F/Wg=") -> #VALUE! | DB1: =AND(Duty!K7,"AAAAAF/F/Wk=") -> #VALUE! | DC1: =AND(Duty!L7,"AAAAAF/F/Wo=") -> #VALUE! | DD1: =AND(Duty!M7,"AAAAAF/F/Ws=") -> #VALUE! | DE1: =AND(Duty!#REF!,"AAAAAF/F/Ww=") -> #REF! | DF1: =AND(Duty!N7,"AAAAAF/F/W0=") -> #VALUE! | DG1: =AND(Duty!#REF!,"AAAAAF/F/W4=") -> #REF! | DH1: =AND(Duty!#REF!,"AAAAAF/F/W8=") -> #REF! | DI1: =AND(Duty!#REF!,"AAAAAF/F/XA=") -> #REF! | DJ1: =AND(Duty!O7,"AAAAAF/F/XE=") -> #VALUE! | DK1: 0 | DL1: =AND(Duty!A8,"AAAAAF/F/XM=") -> #VALUE! | DM1: =AND(Duty!B8,"AAAAAF/F/XQ=") -> #VALUE! | DN1: =AND(Duty!C8,"AAAAAF/F/XU=") -> #VALUE! | DO1: =AND(Duty!D8,"AAAAAF/F/XY=") -> #VALUE! | DP1: =AND(Duty!#REF!,"AAAAAF/F/Xc=") -> #REF! | DQ1: =AND(Duty!G8,"AAAAAF/F/Xg=") -> #VALUE! | DR1: =AND(Duty!H8,"AAAAAF/F/Xk=") -> #VALUE! | DS1: =AND(Duty!I8,"AAAAAF/F/Xo=") -> #VALUE! | DT1: =AND(Duty!J8,"AAAAAF/F/Xs=") -> #VALUE! | DU1: =AND(Duty!K8,"AAAAAF/F/Xw=") -> #VALUE! | DV1: =AND(Duty!L8,"AAAAAF/F/X0=") -> #VALUE! | DW1: =AND(Duty!M8,"AAAAAF/F/X4=") -> #VALUE! | DX1: =AND(Duty!#REF!,"AAAAAF/F/X8=") -> #REF! | DY1: =AND(Duty!N8,"AAAAAF/F/YA=") -> #VALUE! | DZ1: =AND(Duty!#REF!,"AAAAAF/F/YE=") -> #REF! | EA1: =AND(Duty!#REF!,"AAAAAF/F/YI=") -> #REF! | EB1: =AND(Duty!#REF!,"AAAAAF/F/YM=") -> #REF! | EC1: =AND(Duty!O8,"AAAAAF/F/YQ=") -> #VALUE! | ED1: 0 | EE1: =AND(Duty!A9,"AAAAAF/F/YY=") -> #VALUE! | EF1: =AND(Duty!B9,"AAAAAF/F/Yc=") -> #VALUE! | EG1: =AND(Duty!C9,"AAAAAF/F/Yg=") -> #VALUE! | EH1: =AND(Duty!D9,"AAAAAF/F/Yk=") -> #VALUE! | EI1: =AND(Duty!#REF!,"AAAAAF/F/Yo=") -> #REF! | EJ1: =AND(Duty!G9,"AAAAAF/F/Ys=") -> #VALUE! | EK1: =AND(Duty!H9,"AAAAAF/F/Yw=") -> #VALUE! | EL1: =AND(Duty!I9,"AAAAAF/F/Y0=") -> #VALUE! | EM1: =AND(Duty!J9,"AAAAAF/F/Y4=") -> #VALUE! | EN1: =AND(Duty!K9,"AAAAAF/F/Y8=") -> #VALUE! | EO1: =AND(Duty!L9,"AAAAAF/F/ZA=") -> #VALUE! | EP1: =AND(Duty!M9,"AAAAAF/F/ZE=") -> #VALUE! | EQ1: =AND(Duty!#REF!,"AAAAAF/F/ZI=") -> #REF! | ER1: =AND(Duty!N9,"AAAAAF/F/ZM=") -> #VALUE! | ES1: =AND(Duty!#REF!,"AAAAAF/F/ZQ=") -> #REF! | ET1: =AND(Duty!#REF!,"AAAAAF/F/ZU=") -> #REF! | EU1: =AND(Duty!#REF!,"AAAAAF/F/ZY=") -> #REF! | EV1: =AND(Duty!O9,"AAAAAF/F/Zc=") -> #VALUE! | EW1: 0 | EX1: =AND(Duty!A10,"AAAAAF/F/Zk=") -> #VALUE! | EY1: =AND(Duty!B10,"AAAAAF/F/Zo=") -> #VALUE! | EZ1: =AND(Duty!C10,"AAAAAF/F/Zs=") -> #VALUE! | FA1: =AND(Duty!D10,"AAAAAF/F/Zw=") -> #VALUE! | FB1: =AND(Duty!#REF!,"AAAAAF/F/Z0=") -> #REF! | FC1: =AND(Duty!G10,"AAAAAF/F/Z4=") -> #VALUE! | FD1: =AND(Duty!H10,"AAAAAF/F/Z8=") -> #VALUE! | FE1: =AND(Duty!I10,"AAAAAF/F/aA=") -> #VALUE! | FF1: =AND(Duty!J10,"AAAAAF/F/aE=") -> #VALUE! | FG1: =AND(Duty!K10,"AAAAAF/F/aI=") -> #VALUE! | FH1: =AND(Duty!L10,"AAAAAF/F/aM=") -> #VALUE! | FI1: =AND(Duty!M10,"AAAAAF/F/aQ=") -> #VALUE! | FJ1: =AND(Duty!#REF!,"AAAAAF/F/aU=") -> #REF! | FK1: =AND(Duty!N10,"AAAAAF/F/aY=") -> #VALUE! | FL1: =AND(Duty!#REF!,"AAAAAF/F/ac=") -> #REF! | FM1: =AND(Duty!#REF!,"AAAAAF/F/ag=") -> #REF! | FN1: =AND(Duty!#REF!,"AAAAAF/F/ak=") -> #REF! | FO1: =AND(Duty!O10,"AAAAAF/F/ao=") -> #VALUE! | FP1: 0 | FQ1: =AND(Duty!A11,"AAAAAF/F/aw=") -> #VALUE! | FR1: =AND(Duty!B11,"AAAAAF/F/a0=") -> #VALUE! | FS1: =AND(Duty!C11,"AAAAAF/F/a4=") -> #VALUE! | FT1: =AND(Duty!D11,"AAAAAF/F/a8=") -> #VALUE! | FU1: =AND(Duty!#REF!,"AAAAAF/F/bA=") -> #REF! | FV1: =AND(Duty!G11,"AAAAAF/F/bE=") -> #VALUE! | FW1: =AND(Duty!H11,"AAAAAF/F/bI=") -> #VALUE! | FX1: =AND(Duty!I11,"AAAAAF/F/bM=") -> #VALUE! | FY1: =AND(Duty!J11,"AAAAAF/F/bQ=") -> #VALUE! | FZ1: =AND(Duty!K11,"AAAAAF/F/bU=") -> #VALUE! | GA1: =AND(Duty!L11,"AAAAAF/F/bY=") -> #VALUE! | GB1: =AND(Duty!M11,"AAAAAF/F/bc=") -> #VALUE! | GC1: =AND(Duty!#REF!,"AAAAAF/F/bg=") -> #REF! | GD1: =AND(Duty!N11,"AAAAAF/F/bk=") -> #VALUE! | GE1: =AND(Duty!#REF!,"AAAAAF/F/bo=") -> #REF! | GF1: =AND(Duty!#REF!,"AAAAAF/F/bs=") -> #REF! | GG1: =AND(Duty!#REF!,"AAAAAF/F/bw=") -> #REF! | GH1: =AND(Duty!O11,"AAAAAF/F/b0=") -> #VALUE! | GI1: 0 | GJ1: =AND(Duty!A12,"AAAAAF/F/b8=") -> #VALUE! | GK1: =AND(Duty!B12,"AAAAAF/F/cA=") -> #VALUE! | GL1: =AND(Duty!C12,"AAAAAF/F/cE=") -> #VALUE! | GM1: =AND(Duty!D12,"AAAAAF/F/cI=") -> #VALUE! | GN1: =AND(Duty!#REF!,"AAAAAF/F/cM=") -> #REF! | GO1: =AND(Duty!G12,"AAAAAF/F/cQ=") -> #VALUE! | GP1: =AND(Duty!H12,"AAAAAF/F/cU=") -> #VALUE! | GQ1: =AND(Duty!I12,"AAAAAF/F/cY=") -> #VALUE! | GR1: =AND(Duty!J12,"AAAAAF/F/cc=") -> #VALUE! | GS1: =AND(Duty!K12,"AAAAAF/F/cg=") -> #VALUE! | GT1: =AND(Duty!L12,"AAAAAF/F/ck=") -> #VALUE! | GU1: =AND(Duty!M12,"AAAAAF/F/co=") -> #VALUE! | GV1: =AND(Duty!#REF!,"AAAAAF/F/cs=") -> #REF! | GW1: =AND(Duty!N12,"AAAAAF/F/cw=") -> #VALUE! | GX1: =AND(Duty!#REF!,"AAAAAF/F/c0=") -> #REF! | GY1: =AND(Duty!#REF!,"AAAAAF/F/c4=") -> #REF! | GZ1: =AND(Duty!#REF!,"AAAAAF/F/c8=") -> #REF! | HA1: =AND(Duty!O12,"AAAAAF/F/dA=") -> #VALUE! | HB1: 0 | HC1: =AND(Duty!A13,"AAAAAF/F/dI=") -> #VALUE! | HD1: =AND(Duty!B13,"AAAAAF/F/dM=") -> #VALUE! | HE1: =AND(Duty!C13,"AAAAAF/F/dQ=") -> #VALUE! | HF1: =AND(Duty!D13,"AAAAAF/F/dU=") -> #VALUE! | HG1: =AND(Duty!#REF!,"AAAAAF/F/dY=") -> #REF! | HH1: =AND(Duty!G13,"AAAAAF/F/dc=") -> #VALUE! | HI1: =AND(Duty!H13,"AAAAAF/F/dg=") -> #VALUE! | HJ1: =AND(Duty!I13,"AAAAAF/F/dk=") -> #VALUE! | HK1: =AND(Duty!J13,"AAAAAF/F/do=") -> #VALUE! | HL1: =AND(Duty!K13,"AAAAAF/F/ds=") -> #VALUE! | HM1: =AND(Duty!L13,"AAAAAF/F/dw=") -> #VALUE! | HN1: =AND(Duty!M13,"AAAAAF/F/d0=") -> #VALUE! | HO1: =AND(Duty!#REF!,"AAAAAF/F/d4=") -> #REF! | HP1: =AND(Duty!N13,"AAAAAF/F/d8=") -> #VALUE! | HQ1: =AND(Duty!#REF!,"AAAAAF/F/eA=") -> #REF! | HR1: =AND(Duty!#REF!,"AAAAAF/F/eE=") -> #REF! | HS1: =AND(Duty!#REF!,"AAAAAF/F/eI=") -> #REF! | HT1: =AND(Duty!O13,"AAAAAF/F/eM=") -> #VALUE! | HU1: =IF(Duty!#REF!,"AAAAAF/F/eQ=",0) -> #REF! | HV1: =AND(Duty!#REF!,"AAAAAF/F/eU=") -> #REF! | HW1: =AND(Duty!#REF!,"AAAAAF/F/eY=") -> #REF! | HX1: =AND(Duty!#REF!,"AAAAAF/F/ec=") -> #REF! | HY1: =AND(Duty!#REF!,"AAAAAF/F/eg=") -> #REF! | HZ1: =AND(Duty!#REF!,"AAAAAF/F/ek=") -> #REF! | IA1: =AND(Duty!#REF!,"AAAAAF/F/eo=") -> #REF! | IB1: =AND(Duty!#REF!,"AAAAAF/F/es=") -> #REF! | IC1: =AND(Duty!#REF!,"AAAAAF/F/ew=") -> #REF! | ID1: =AND(Duty!#REF!,"AAAAAF/F/e0=") -> #REF! | IE1: =AND(Duty!#REF!,"AAAAAF/F/e4=") -> #REF! | IF1: =AND(Duty!#REF!,"AAAAAF/F/e8=") -> #REF! | IG1: =AND(Duty!#REF!,"AAAAAF/F/fA=") -> #REF! | IH1: =AND(Duty!#REF!,"AAAAAF/F/fE=") -> #REF! | II1: =AND(Duty!#REF!,"AAAAAF/F/fI=") -> #REF! | IJ1: =AND(Duty!#REF!,"AAAAAF/F/fM=") -> #REF! | IK1: =AND(Duty!#REF!,"AAAAAF/F/fQ=") -> #REF! | IL1: =AND(Duty!#REF!,"AAAAAF/F/fU=") -> #REF! | IM1: =AND(Duty!#REF!,"AAAAAF/F/fY=") -> #REF! | IN1: 0 | IO1: =AND(Duty!A14,"AAAAAF/F/fg=") -> #VALUE! | IP1: =AND(Duty!B14,"AAAAAF/F/fk=") -> #VALUE! | IQ1: =AND(Duty!C14,"AAAAAF/F/fo=") -> #VALUE! | IR1: =AND(Duty!D14,"AAAAAF/F/fs=") -> #VALUE! | IS1: =AND(Duty!#REF!,"AAAAAF/F/fw=") -> #REF! | IT1: =AND(Duty!G14,"AAAAAF/F/f0=") -> #VALUE! | IU1: =AND(Duty!H14,"AAAAAF/F/f4=") -> #VALUE! | IV1: =AND(Duty!I14,"AAAAAF/F/f8=") -> #VALUE!
A2: =AND(Duty!J14,"AAAAAG/3vwA=") -> #VALUE! | B2: =AND(Duty!K14,"AAAAAG/3vwE=") -> #VALUE! | C2: =AND(Duty!L14,"AAAAAG/3vwI=") -> #VALUE! | D2: =AND(Duty!M14,"AAAAAG/3vwM=") -> #VALUE! | E2: =AND(Duty!#REF!,"AAAAAG/3vwQ=") -> #REF! | F2: =AND(Duty!N14,"AAAAAG/3vwU=") -> #VALUE! | G2: =AND(Duty!#REF!,"AAAAAG/3vwY=") -> #REF! | H2: =AND(Duty!#REF!,"AAAAAG/3vwc=") -> #REF! | I2: =AND(Duty!#REF!,"AAAAAG/3vwg=") -> #REF! | J2: =AND(Duty!O14,"AAAAAG/3vwk=") -> #VALUE! | K2: 0 | L2: =AND(Duty!A15,"AAAAAG/3vws=") -> #VALUE! | M2: =AND(Duty!B15,"AAAAAG/3vww=") -> #VALUE! | N2: =AND(Duty!C15,"AAAAAG/3vw0=") -> #VALUE! | O2: =AND(Duty!D15,"AAAAAG/3vw4=") -> #VALUE! | P2: =AND(Duty!#REF!,"AAAAAG/3vw8=") -> #REF! | Q2: =AND(Duty!G15,"AAAAAG/3vxA=") -> #VALUE! | R2: =AND(Duty!H15,"AAAAAG/3vxE=") -> #VALUE! | S2: =AND(Duty!I15,"AAAAAG/3vxI=") -> #VALUE! | T2: =AND(Duty!J15,"AAAAAG/3vxM=") -> #VALUE! | U2: =AND(Duty!K15,"AAAAAG/3vxQ=") -> #VALUE! | V2: =AND(Duty!L15,"AAAAAG/3vxU=") -> #VALUE! | W2: =AND(Duty!M15,"AAAAAG/3vxY=") -> #VALUE! | X2: =AND(Duty!#REF!,"AAAAAG/3vxc=") -> #REF! | Y2: =AND(Duty!N15,"AAAAAG/3vxg=") -> #VALUE! | Z2: =AND(Duty!#REF!,"AAAAAG/3vxk=") -> #REF! | AA2: =AND(Duty!#REF!,"AAAAAG/3vxo=") -> #REF! | AB2: =AND(Duty!#REF!,"AAAAAG/3vxs=") -> #REF! | AC2: =AND(Duty!O15,"AAAAAG/3vxw=") -> #VALUE! | AD2: 0 | AE2: =AND(Duty!A16,"AAAAAG/3vx4=") -> #VALUE! | AF2: =AND(Duty!B16,"AAAAAG/3vx8=") -> #VALUE! | AG2: =AND(Duty!C16,"AAAAAG/3vyA=") -> #VALUE! | AH2: =AND(Duty!D16,"AAAAAG/3vyE=") -> #VALUE! | AI2: =AND(Duty!#REF!,"AAAAAG/3vyI=") -> #REF! | AJ2: =AND(Duty!G16,"AAAAAG/3vyM=") -> #VALUE! | AK2: =AND(Duty!H16,"AAAAAG/3vyQ=") -> #VALUE! | AL2: =AND(Duty!I16,"AAAAAG/3vyU=") -> #VALUE! | AM2: =AND(Duty!J16,"AAAAAG/3vyY=") -> #VALUE! | AN2: =AND(Duty!K16,"AAAAAG/3vyc=") -> #VALUE! | AO2: =AND(Duty!L16,"AAAAAG/3vyg=") -> #VALUE! | AP2: =AND(Duty!M16,"AAAAAG/3vyk=") -> #VALUE! | AQ2: =AND(Duty!#REF!,"AAAAAG/3vyo=") -> #REF! | AR2: =AND(Duty!N16,"AAAAAG/3vys=") -> #VALUE! | AS2: =AND(Duty!#REF!,"AAAAAG/3vyw=") -> #REF! | AT2: =AND(Duty!#REF!,"AAAAAG/3vy0=") -> #REF! | AU2: =AND(Duty!#REF!,"AAAAAG/3vy4=") -> #REF! | AV2: =AND(Duty!O16,"AAAAAG/3vy8=") -> #VALUE! | AW2: =IF(Duty!#REF!,"AAAAAG/3vzA=",0) -> #REF! | AX2: =AND(Duty!#REF!,"AAAAAG/3vzE=") -> #REF! | AY2: =AND(Duty!#REF!,"AAAAAG/3vzI=") -> #REF! | AZ2: =AND(Duty!#REF!,"AAAAAG/3vzM=") -> #REF! | BA2: =AND(Duty!#REF!,"AAAAAG/3vzQ=") -> #REF! | BB2: =AND(Duty!#REF!,"AAAAAG/3vzU=") -> #REF! | BC2: =AND(Duty!#REF!,"AAAAAG/3vzY=") -> #REF! | BD2: =AND(Duty!#REF!,"AAAAAG/3vzc=") -> #REF! | BE2: =AND(Duty!#REF!,"AAAAAG/3vzg=") -> #REF! | BF2: =AND(Duty!#REF!,"AAAAAG/3vzk=") -> #REF! | BG2: =AND(Duty!#REF!,"AAAAAG/3vzo=") -> #REF! | BH2: =AND(Duty!#REF!,"AAAAAG/3vzs=") -> #REF! | BI2: =AND(Duty!#REF!,"AAAAAG/3vzw=") -> #REF! | BJ2: =AND(Duty!#REF!,"AAAAAG/3vz0=") -> #REF! | BK2: =AND(Duty!#REF!,"AAAAAG/3vz4=") -> #REF! | BL2: =AND(Duty!#REF!,"AAAAAG/3vz8=") -> #REF! | BM2: =AND(Duty!#REF!,"AAAAAG/3v0A=") -> #REF! | BN2: =AND(Duty!#REF!,"AAAAAG/3v0E=") -> #REF! | BO2: =AND(Duty!#REF!,"AAAAAG/3v0I=") -> #REF! | BP2: 0 | BQ2: =AND(Duty!A19,"AAAAAG/3v0Q=") -> #VALUE! | BR2: =AND(Duty!B19,"AAAAAG/3v0U=") -> #VALUE! | BS2: =AND(Duty!C19,"AAAAAG/3v0Y=") -> #VALUE! | BT2: =AND(Duty!D19,"AAAAAG/3v0c=") -> #VALUE! | BU2: =AND(Duty!#REF!,"AAAAAG/3v0g=") -> #REF! | BV2: =AND(Duty!G19,"AAAAAG/3v0k=") -> #VALUE! | BW2: =AND(Duty!H19,"AAAAAG/3v0o=") -> #VALUE! | BX2: =AND(Duty!I19,"AAAAAG/3v0s=") -> #VALUE! | BY2: =AND(Duty!J19,"AAAAAG/3v0w=") -> #VALUE! | BZ2: =AND(Duty!K19,"AAAAAG/3v00=") -> #VALUE! | CA2: =AND(Duty!L19,"AAAAAG/3v04=") -> #VALUE! | CB2: =AND(Duty!M19,"AAAAAG/3v08=") -> #VALUE! | CC2: =AND(Duty!#REF!,"AAAAAG/3v1A=") -> #REF! | CD2: =AND(Duty!N19,"AAAAAG/3v1E=") -> #VALUE! | CE2: =AND(Duty!#REF!,"AAAAAG/3v1I=") -> #REF! | CF2: =AND(Duty!#REF!,"AAAAAG/3v1M=") -> #REF! | CG2: =AND(Duty!#REF!,"AAAAAG/3v1Q=") -> #REF! | CH2: =AND(Duty!O19,"AAAAAG/3v1U=") -> #VALUE! | CI2: 0 | CJ2: =AND(Duty!A20,"AAAAAG/3v1c=") -> #VALUE! | CK2: =AND(Duty!B20,"AAAAAG/3v1g=") -> #VALUE! | CL2: =AND(Duty!C20,"AAAAAG/3v1k=") -> #VALUE! | CM2: =AND(Duty!D20,"AAAAAG/3v1o=") -> #VALUE! | CN2: =AND(Duty!#REF!,"AAAAAG/3v1s=") -> #REF! | CO2: =AND(Duty!G20,"AAAAAG/3v1w=") -> #VALUE! | CP2: =AND(Duty!H20,"AAAAAG/3v10=") -> #VALUE! | CQ2: =AND(Duty!I20,"AAAAAG/3v14=") -> #VALUE! | CR2: =AND(Duty!J20,"AAAAAG/3v18=") -> #VALUE! | CS2: =AND(Duty!K20,"AAAAAG/3v2A=") -> #VALUE! | CT2: =AND(Duty!L20,"AAAAAG/3v2E=") -> #VALUE! | CU2: =AND(Duty!M20,"AAAAAG/3v2I=") -> #VALUE! | CV2: =AND(Duty!#REF!,"AAAAAG/3v2M=") -> #REF! | CW2: =AND(Duty!N20,"AAAAAG/3v2Q=") -> #VALUE! | CX2: =AND(Duty!#REF!,"AAAAAG/3v2U=") -> #REF! | CY2: =AND(Duty!#REF!,"AAAAAG/3v2Y=") -> #REF! | CZ2: =AND(Duty!#REF!,"AAAAAG/3v2c=") -> #REF! | DA2: =AND(Duty!O20,"AAAAAG/3v2g=") -> #VALUE! | DB2: =IF(Duty!#REF!,"AAAAAG/3v2k=",0) -> #REF! | DC2: =AND(Duty!#REF!,"AAAAAG/3v2o=") -> #REF! | DD2: =AND(Duty!#REF!,"AAAAAG/3v2s=") -> #REF! | DE2: =AND(Duty!#REF!,"AAAAAG/3v2w=") -> #REF! | DF2: =AND(Duty!#REF!,"AAAAAG/3v20=") -> #REF! | DG2: =AND(Duty!#REF!,"AAAAAG/3v24=") -> #REF! | DH2: =AND(Duty!#REF!,"AAAAAG/3v28=") -> #REF! | DI2: =AND(Duty!#REF!,"AAAAAG/3v3A=") -> #REF! | DJ2: =AND(Duty!#REF!,"AAAAAG/3v3E=") -> #REF! | DK2: =AND(Duty!#REF!,"AAAAAG/3v3I=") -> #REF! | DL2: =AND(Duty!#REF!,"AAAAAG/3v3M=") -> #REF! | DM2: =AND(Duty!#REF!,"AAAAAG/3v3Q=") -> #REF! | DN2: =AND(Duty!#REF!,"AAAAAG/3v3U=") -> #REF! | DO2: =AND(Duty!#REF!,"AAAAAG/3v3Y=") -> #REF! | DP2: =AND(Duty!#REF!,"AAAAAG/3v3c=") -> #REF! | DQ2: =AND(Duty!#REF!,"AAAAAG/3v3g=") -> #REF! | DR2: =AND(Duty!#REF!,"AAAAAG/3v3k=") -> #REF! | DS2: =AND(Duty!#REF!,"AAAAAG/3v3o=") -> #REF! | DT2: =AND(Duty!#REF!,"AAAAAG/3v3s=") -> #REF! | DU2: =IF(Duty!#REF!,"AAAAAG/3v3w=",0) -> #REF! | DV2: =AND(Duty!#REF!,"AAAAAG/3v30=") -> #REF! | DW2: =AND(Duty!#REF!,"AAAAAG/3v34=") -> #REF! | DX2: =AND(Duty!#REF!,"AAAAAG/3v38=") -> #REF! | DY2: =AND(Duty!#REF!,"AAAAAG/3v4A=") -> #REF! | DZ2: =AND(Duty!#REF!,"AAAAAG/3v4E=") -> #REF! | EA2: =AND(Duty!#REF!,"AAAAAG/3v4I=") -> #REF! | EB2: =AND(Duty!#REF!,"AAAAAG/3v4M=") -> #REF! | EC2: =AND(Duty!#REF!,"AAAAAG/3v4Q=") -> #REF! | ED2: =AND(Duty!#REF!,"AAAAAG/3v4U=") -> #REF! | EE2: =AND(Duty!#REF!,"AAAAAG/3v4Y=") -> #REF! | EF2: =AND(Duty!#REF!,"AAAAAG/3v4c=") -> #REF! | EG2: =AND(Duty!#REF!,"AAAAAG/3v4g=") -> #REF! | EH2: =AND(Duty!#REF!,"AAAAAG/3v4k=") -> #REF! | EI2: =AND(Duty!#REF!,"AAAAAG/3v4o=") -> #REF! | EJ2: =AND(Duty!#REF!,"AAAAAG/3v4s=") -> #REF! | EK2: =AND(Duty!#REF!,"AAAAAG/3v4w=") -> #REF! | EL2: =AND(Duty!#REF!,"AAAAAG/3v40=") -> #REF! | EM2: =AND(Duty!#REF!,"AAAAAG/3v44=") -> #REF! | EN2: 0 | EO2: =AND(Duty!A21,"AAAAAG/3v5A=") -> #VALUE! | EP2: =AND(Duty!B21,"AAAAAG/3v5E=") -> #VALUE! | EQ2: =AND(Duty!C21,"AAAAAG/3v5I=") -> #VALUE! | ER2: =AND(Duty!D21,"AAAAAG/3v5M=") -> #VALUE! | ES2: =AND(Duty!#REF!,"AAAAAG/3v5Q=") -> #REF! | ET2: =AND(Duty!G21,"AAAAAG/3v5U=") -> #VALUE! | EU2: =AND(Duty!H21,"AAAAAG/3v5Y=") -> #VALUE! | EV2: =AND(Duty!I21,"AAAAAG/3v5c=") -> #VALUE! | EW2: =AND(Duty!J21,"AAAAAG/3v5g=") -> #VALUE! | EX2: =AND(Duty!K21,"AAAAAG/3v5k=") -> #VALUE! | EY2: =AND(Duty!L21,"AAAAAG/3v5o=") -> #VALUE! | EZ2: =AND(Duty!M21,"AAAAAG/3v5s=") -> #VALUE! | FA2: =AND(Duty!#REF!,"AAAAAG/3v5w=") -> #REF! | FB2: =AND(Duty!N21,"AAAAAG/3v50=") -> #VALUE! | FC2: =AND(Duty!#REF!,"AAAAAG/3v54=") -> #REF! | FD2: =AND(Duty!#REF!,"AAAAAG/3v58=") -> #REF! | FE2: =AND(Duty!#REF!,"AAAAAG/3v6A=") -> #REF! | FF2: =AND(Duty!O21,"AAAAAG/3v6E=") -> #VALUE! | FG2: 0 | FH2: =AND(Duty!A22,"AAAAAG/3v6M=") -> #VALUE! | FI2: =AND(Duty!B22,"AAAAAG/3v6Q=") -> #VALUE! | FJ2: =AND(Duty!C22,"AAAAAG/3v6U=") -> #VALUE! | FK2: =AND(Duty!D22,"AAAAAG/3v6Y=") -> #VALUE! | FL2: =AND(Duty!#REF!,"AAAAAG/3v6c=") -> #REF! | FM2: =AND(Duty!G22,"AAAAAG/3v6g=") -> #VALUE! | FN2: =AND(Duty!H22,"AAAAAG/3v6k=") -> #VALUE! | FO2: =AND(Duty!I22,"AAAAAG/3v6o=") -> #VALUE! | FP2: =AND(Duty!J22,"AAAAAG/3v6s=") -> #VALUE! | FQ2: =AND(Duty!K22,"AAAAAG/3v6w=") -> #VALUE! | FR2: =AND(Duty!L22,"AAAAAG/3v60=") -> #VALUE! | FS2: =AND(Duty!M22,"AAAAAG/3v64=") -> #VALUE! | FT2: =AND(Duty!#REF!,"AAAAAG/3v68=") -> #REF! | FU2: =AND(Duty!N22,"AAAAAG/3v7A=") -> #VALUE! | FV2: =AND(Duty!#REF!,"AAAAAG/3v7E=") -> #REF! | FW2: =AND(Duty!#REF!,"AAAAAG/3v7I=") -> #REF! | FX2: =AND(Duty!#REF!,"AAAAAG/3v7M=") -> #REF! | FY2: =AND(Duty!O22,"AAAAAG/3v7Q=") -> #VALUE! | FZ2: 0 | GA2: =AND(Duty!A23,"AAAAAG/3v7Y=") -> #VALUE! | GB2: =AND(Duty!B23,"AAAAAG/3v7c=") -> #VALUE! | GC2: =AND(Duty!C23,"AAAAAG/3v7g=") -> #VALUE! | GD2: =AND(Duty!D23,"AAAAAG/3v7k=") -> #VALUE! | GE2: =AND(Duty!#REF!,"AAAAAG/3v7o=") -> #REF! | GF2: =AND(Duty!G23,"AAAAAG/3v7s=") -> #VALUE! | GG2: =AND(Duty!H23,"AAAAAG/3v7w=") -> #VALUE! | GH2: =AND(Duty!I23,"AAAAAG/3v70=") -> #VALUE! | GI2: =AND(Duty!J23,"AAAAAG/3v74=") -> #VALUE! | GJ2: =AND(Duty!K23,"AAAAAG/3v78=") -> #VALUE! | GK2: =AND(Duty!L23,"AAAAAG/3v8A=") -> #VALUE! | GL2: =AND(Duty!M23,"AAAAAG/3v8E=") -> #VALUE! | GM2: =AND(Duty!#REF!,"AAAAAG/3v8I=") -> #REF! | GN2: =AND(Duty!N23,"AAAAAG/3v8M=") -> #VALUE! | GO2: =AND(Duty!#REF!,"AAAAAG/3v8Q=") -> #REF! | GP2: =AND(Duty!#REF!,"AAAAAG/3v8U=") -> #REF! | GQ2: =AND(Duty!#REF!,"AAAAAG/3v8Y=") -> #REF! | GR2: =AND(Duty!O23,"AAAAAG/3v8c=") -> #VALUE! | GS2: 0 | GT2: =AND(Duty!A24,"AAAAAG/3v8k=") -> #VALUE! | GU2: =AND(Duty!B24,"AAAAAG/3v8o=") -> #VALUE! | GV2: =AND(Duty!C24,"AAAAAG/3v8s=") -> #VALUE! | GW2: =AND(Duty!D24,"AAAAAG/3v8w=") -> #VALUE! | GX2: =AND(Duty!#REF!,"AAAAAG/3v80=") -> #REF! | GY2: =AND(Duty!G24,"AAAAAG/3v84=") -> #VALUE! | GZ2: =AND(Duty!H24,"AAAAAG/3v88=") -> #VALUE! | HA2: =AND(Duty!I24,"AAAAAG/3v9A=") -> #VALUE! | HB2: =AND(Duty!J24,"AAAAAG/3v9E=") -> #VALUE! | HC2: =AND(Duty!K24,"AAAAAG/3v9I=") -> #VALUE! | HD2: =AND(Duty!L24,"AAAAAG/3v9M=") -> #VALUE! | HE2: =AND(Duty!M24,"AAAAAG/3v9Q=") -> #VALUE! | HF2: =AND(Duty!#REF!,"AAAAAG/3v9U=") -> #REF! | HG2: =AND(Duty!N24,"AAAAAG/3v9Y=") -> #VALUE! | HH2: =AND(Duty!#REF!,"AAAAAG/3v9c=") -> #REF! | HI2: =AND(Duty!#REF!,"AAAAAG/3v9g=") -> #REF! | HJ2: =AND(Duty!#REF!,"AAAAAG/3v9k=") -> #REF! | HK2: =AND(Duty!O24,"AAAAAG/3v9o=") -> #VALUE! | HL2: 0 | HM2: =AND(Duty!A25,"AAAAAG/3v9w=") -> #VALUE! | HN2: =AND(Duty!B25,"AAAAAG/3v90=") -> #VALUE! | HO2: =AND(Duty!C25,"AAAAAG/3v94=") -> #VALUE! | HP2: =AND(Duty!D25,"AAAAAG/3v98=") -> #VALUE! | HQ2: =AND(Duty!#REF!,"AAAAAG/3v+A=") -> #REF! | HR2: =AND(Duty!G25,"AAAAAG/3v+E=") -> #VALUE! | HS2: =AND(Duty!H25,"AAAAAG/3v+I=") -> #VALUE! | HT2: =AND(Duty!I25,"AAAAAG/3v+M=") -> #VALUE! | HU2: =AND(Duty!J25,"AAAAAG/3v+Q=") -> #VALUE! | HV2: =AND(Duty!K25,"AAAAAG/3v+U=") -> #VALUE! | HW2: =AND(Duty!L25,"AAAAAG/3v+Y=") -> #VALUE! | HX2: =AND(Duty!M25,"AAAAAG/3v+c=") -> #VALUE! | HY2: =AND(Duty!#REF!,"AAAAAG/3v+g=") -> #REF! | HZ2: =AND(Duty!N25,"AAAAAG/3v+k=") -> #VALUE! | IA2: =AND(Duty!#REF!,"AAAAAG/3v+o=") -> #REF! | IB2: =AND(Duty!#REF!,"AAAAAG/3v+s=") -> #REF! | IC2: =AND(Duty!#REF!,"AAAAAG/3v+w=") -> #REF! | ID2: =AND(Duty!O25,"AAAAAG/3v+0=") -> #VALUE! | IE2: 0 | IF2: =AND(Duty!A26,"AAAAAG/3v+8=") -> #VALUE! | IG2: =AND(Duty!B26,"AAAAAG/3v/A=") -> #VALUE! | IH2: =AND(Duty!C26,"AAAAAG/3v/E=") -> #VALUE! | II2: =AND(Duty!D26,"AAAAAG/3v/I=") -> #VALUE! | IJ2: =AND(Duty!#REF!,"AAAAAG/3v/M=") -> #REF! | IK2: =AND(Duty!G26,"AAAAAG/3v/Q=") -> #VALUE! | IL2: =AND(Duty!H26,"AAAAAG/3v/U=") -> #VALUE! | IM2: =AND(Duty!I26,"AAAAAG/3v/Y=") -> #VALUE! | IN2: =AND(Duty!J26,"AAAAAG/3v/c=") -> #VALUE! | IO2: =AND(Duty!K26,"AAAAAG/3v/g=") -> #VALUE! | IP2: =AND(Duty!L26,"AAAAAG/3v/k=") -> #VALUE! | IQ2: =AND(Duty!M26,"AAAAAG/3v/o=") -> #VALUE! | IR2: =AND(Duty!#REF!,"AAAAAG/3v/s=") -> #REF! | IS2: =AND(Duty!N26,"AAAAAG/3v/w=") -> #VALUE! | IT2: =AND(Duty!#REF!,"AAAAAG/3v/0=") -> #REF! | IU2: =AND(Duty!#REF!,"AAAAAG/3v/4=") -> #REF! | IV2: =AND(Duty!#REF!,"AAAAAG/3v/8=") -> #REF!
A3: =AND(Duty!O26,"AAAAAG/a/gA=") -> #VALUE! | B3: #VALUE!:notNumber | C3: =AND(Duty!A27,"AAAAAG/a/gI=") -> #VALUE! | D3: =AND(Duty!B27,"AAAAAG/a/gM=") -> #VALUE! | E3: =AND(Duty!C27,"AAAAAG/a/gQ=") -> #VALUE! | F3: =AND(Duty!D27,"AAAAAG/a/gU=") -> #VALUE! | G3: =AND(Duty!#REF!,"AAAAAG/a/gY=") -> #REF! | H3: =AND(Duty!G27,"AAAAAG/a/gc=") -> #VALUE! | I3: =AND(Duty!H27,"AAAAAG/a/gg=") -> #VALUE! | J3: =AND(Duty!I27,"AAAAAG/a/gk=") -> #VALUE! | K3: =AND(Duty!J27,"AAAAAG/a/go=") -> #VALUE! | L3: =AND(Duty!K27,"AAAAAG/a/gs=") -> #VALUE! | M3: =AND(Duty!L27,"AAAAAG/a/gw=") -> #VALUE! | N3: =AND(Duty!M27,"AAAAAG/a/g0=") -> #VALUE! | O3: =AND(Duty!#REF!,"AAAAAG/a/g4=") -> #REF! | P3: =AND(Duty!N27,"AAAAAG/a/g8=") -> #VALUE! | Q3: =AND(Duty!#REF!,"AAAAAG/a/hA=") -> #REF! | R3: =AND(Duty!#REF!,"AAAAAG/a/hE=") -> #REF! | S3: =AND(Duty!#REF!,"AAAAAG/a/hI=") -> #REF! | T3: =AND(Duty!O27,"AAAAAG/a/hM=") -> #VALUE! | U3: =IF(Duty!#REF!,"AAAAAG/a/hQ=",0) -> #REF! | V3: =AND(Duty!#REF!,"AAAAAG/a/hU=") -> #REF! | W3: =AND(Duty!#REF!,"AAAAAG/a/hY=") -> #REF! | X3: =AND(Duty!#REF!,"AAAAAG/a/hc=") -> #REF! | Y3: =AND(Duty!#REF!,"AAAAAG/a/hg=") -> #REF! | Z3: =AND(Duty!#REF!,"AAAAAG/a/hk=") -> #REF! | AA3: =AND(Duty!#REF!,"AAAAAG/a/ho=") -> #REF! | AB3: =AND(Duty!#REF!,"AAAAAG/a/hs=") -> #REF! | AC3: =AND(Duty!#REF!,"AAAAAG/a/hw=") -> #REF! | AD3: =AND(Duty!#REF!,"AAAAAG/a/h0=") -> #REF! | AE3: =AND(Duty!#REF!,"AAAAAG/a/h4=") -> #REF! | AF3: =AND(Duty!#REF!,"AAAAAG/a/h8=") -> #REF! | AG3: =AND(Duty!#REF!,"AAAAAG/a/iA=") -> #REF! | AH3: =AND(Duty!#REF!,"AAAAAG/a/iE=") -> #REF! | AI3: =AND(Duty!#REF!,"AAAAAG/a/iI=") -> #REF! | AJ3: =AND(Duty!#REF!,"AAAAAG/a/iM=") -> #REF! | AK3: =AND(Duty!#REF!,"AAAAAG/a/iQ=") -> #REF! | AL3: =AND(Duty!#REF!,"AAAAAG/a/iU=") -> #REF! | AM3: =AND(Duty!#REF!,"AAAAAG/a/iY=") -> #REF! | AN3: 0 | AO3: =AND(Duty!A28,"AAAAAG/a/ig=") -> #VALUE! | AP3: =AND(Duty!B28,"AAAAAG/a/ik=") -> #VALUE! | AQ3: =AND(Duty!C28,"AAAAAG/a/io=") -> #VALUE! | AR3: =AND(Duty!D28,"AAAAAG/a/is=") -> #VALUE! | AS3: =AND(Duty!#REF!,"AAAAAG/a/iw=") -> #REF! | AT3: =AND(Duty!G28,"AAAAAG/a/i0=") -> #VALUE! | AU3: =AND(Duty!H28,"AAAAAG/a/i4=") -> #VALUE! | AV3: =AND(Duty!I28,"AAAAAG/a/i8=") -> #VALUE! | AW3: =AND(Duty!J28,"AAAAAG/a/jA=") -> #VALUE! | AX3: =AND(Duty!K28,"AAAAAG/a/jE=") -> #VALUE! | AY3: =AND(Duty!L28,"AAAAAG/a/jI=") -> #VALUE! | AZ3: =AND(Duty!M28,"AAAAAG/a/jM=") -> #VALUE! | BA3: =AND(Duty!#REF!,"AAAAAG/a/jQ=") -> #REF! | BB3: =AND(Duty!N28,"AAAAAG/a/jU=") -> #VALUE! | BC3: =AND(Duty!#REF!,"AAAAAG/a/jY=") -> #REF! | BD3: =AND(Duty!#REF!,"AAAAAG/a/jc=") -> #REF! | BE3: =AND(Duty!#REF!,"AAAAAG/a/jg=") -> #REF! | BF3: =AND(Duty!O28,"AAAAAG/a/jk=") -> #VALUE! | BG3: 0 | BH3: =AND(Duty!A29,"AAAAAG/a/js=") -> #VALUE! | BI3: =AND(Duty!B29,"AAAAAG/a/jw=") -> #VALUE! | BJ3: =AND(Duty!C29,"AAAAAG/a/j0=") -> #VALUE! | BK3: =AND(Duty!D29,"AAAAAG/a/j4=") -> #VALUE! | BL3: =AND(Duty!#REF!,"AAAAAG/a/j8=") -> #REF! | BM3: =AND(Duty!G29,"AAAAAG/a/kA=") -> #VALUE! | BN3: =AND(Duty!H29,"AAAAAG/a/kE=") -> #VALUE! | BO3: =AND(Duty!I29,"AAAAAG/a/kI=") -> #VALUE! | BP3: =AND(Duty!J29,"AAAAAG/a/kM=") -> #VALUE! | BQ3: =AND(Duty!K29,"AAAAAG/a/kQ=") -> #VALUE! | BR3: =AND(Duty!L29,"AAAAAG/a/kU=") -> #VALUE! | BS3: =AND(Duty!M29,"AAAAAG/a/kY=") -> #VALUE! | BT3: =AND(Duty!#REF!,"AAAAAG/a/kc=") -> #REF! | BU3: =AND(Duty!N29,"AAAAAG/a/kg=") -> #VALUE! | BV3: =AND(Duty!#REF!,"AAAAAG/a/kk=") -> #REF! | BW3: =AND(Duty!#REF!,"AAAAAG/a/ko=") -> #REF! | BX3: =AND(Duty!#REF!,"AAAAAG/a/ks=") -> #REF! | BY3: =AND(Duty!O29,"AAAAAG/a/kw=") -> #VALUE! | BZ3: 0 | CA3: =AND(Duty!A30,"AAAAAG/a/k4=") -> #VALUE! | CB3: =AND(Duty!B30,"AAAAAG/a/k8=") -> #VALUE! | CC3: =AND(Duty!C30,"AAAAAG/a/lA=") -> #VALUE! | CD3: =AND(Duty!D30,"AAAAAG/a/lE=") -> #VALUE! | CE3: =AND(Duty!#REF!,"AAAAAG/a/lI=") -> #REF! | CF3: =AND(Duty!G30,"AAAAAG/a/lM=") -> #VALUE! | CG3: =AND(Duty!H30,"AAAAAG/a/lQ=") -> #VALUE! | CH3: =AND(Duty!I30,"AAAAAG/a/lU=") -> #VALUE! | CI3: =AND(Duty!J30,"AAAAAG/a/lY=") -> #VALUE! | CJ3: =AND(Duty!K30,"AAAAAG/a/lc=") -> #VALUE! | CK3: =AND(Duty!L30,"AAAAAG/a/lg=") -> #VALUE! | CL3: =AND(Duty!M30,"AAAAAG/a/lk=") -> #VALUE! | CM3: =AND(Duty!#REF!,"AAAAAG/a/lo=") -> #REF! | CN3: =AND(Duty!N30,"AAAAAG/a/ls=") -> #VALUE! | CO3: =AND(Duty!#REF!,"AAAAAG/a/lw=") -> #REF! | CP3: =AND(Duty!#REF!,"AAAAAG/a/l0=") -> #REF! | CQ3: =AND(Duty!#REF!,"AAAAAG/a/l4=") -> #REF! | CR3: =AND(Duty!O30,"AAAAAG/a/l8=") -> #VALUE! | CS3: 0 | CT3: =AND(Duty!A33,"AAAAAG/a/mE=") -> #VALUE! | CU3: =AND(Duty!B33,"AAAAAG/a/mI=") -> #VALUE! | CV3: =AND(Duty!C33,"AAAAAG/a/mM=") -> #VALUE! | CW3: =AND(Duty!D33,"AAAAAG/a/mQ=") -> #VALUE! | CX3: =AND(Duty!#REF!,"AAAAAG/a/mU=") -> #REF! | CY3: =AND(Duty!G33,"AAAAAG/a/mY=") -> #VALUE! | CZ3: =AND(Duty!H33,"AAAAAG/a/mc=") -> #VALUE! | DA3: =AND(Duty!I33,"AAAAAG/a/mg=") -> #VALUE! | DB3: =AND(Duty!J33,"AAAAAG/a/mk=") -> #VALUE! | DC3: =AND(Duty!K33,"AAAAAG/a/mo=") -> #VALUE! | DD3: =AND(Duty!L33,"AAAAAG/a/ms=") -> #VALUE! | DE3: =AND(Duty!M33,"AAAAAG/a/mw=") -> #VALUE! | DF3: =AND(Duty!#REF!,"AAAAAG/a/m0=") -> #REF! | DG3: =AND(Duty!N33,"AAAAAG/a/m4=") -> #VALUE! | DH3: =AND(Duty!#REF!,"AAAAAG/a/m8=") -> #REF! | DI3: =AND(Duty!#REF!,"AAAAAG/a/nA=") -> #REF! | DJ3: =AND(Duty!#REF!,"AAAAAG/a/nE=") -> #REF! | DK3: =AND(Duty!O33,"AAAAAG/a/nI=") -> #VALUE! | DL3: =IF(Duty!#REF!,"AAAAAG/a/nM=",0) -> #REF! | DM3: =AND(Duty!#REF!,"AAAAAG/a/nQ=") -> #REF! | DN3: =AND(Duty!#REF!,"AAAAAG/a/nU=") -> #REF! | DO3: =AND(Duty!#REF!,"AAAAAG/a/nY=") -> #REF! | DP3: =AND(Duty!#REF!,"AAAAAG/a/nc=") -> #REF! | DQ3: =AND(Duty!#REF!,"AAAAAG/a/ng=") -> #REF! | DR3: =AND(Duty!#REF!,"AAAAAG/a/nk=") -> #REF! | DS3: =AND(Duty!#REF!,"AAAAAG/a/no=") -> #REF! | DT3: =AND(Duty!#REF!,"AAAAAG/a/ns=") -> #REF! | DU3: =AND(Duty!#REF!,"AAAAAG/a/nw=") -> #REF! | DV3: =AND(Duty!#REF!,"AAAAAG/a/n0=") -> #REF! | DW3: =AND(Duty!#REF!,"AAAAAG/a/n4=") -> #REF! | DX3: =AND(Duty!#REF!,"AAAAAG/a/n8=") -> #REF! | DY3: =AND(Duty!#REF!,"AAAAAG/a/oA=") -> #REF! | DZ3: =AND(Duty!#REF!,"AAAAAG/a/oE=") -> #REF! | EA3: =AND(Duty!#REF!,"AAAAAG/a/oI=") -> #REF! | EB3: =AND(Duty!#REF!,"AAAAAG/a/oM=") -> #REF! | EC3: =AND(Duty!#REF!,"AAAAAG/a/oQ=") -> #REF! | ED3: =AND(Duty!#REF!,"AAAAAG/a/oU=") -> #REF! | EE3: 0 | EF3: =AND(Duty!A34,"AAAAAG/a/oc=") -> #VALUE! | EG3: =AND(Duty!B34,"AAAAAG/a/og=") -> #VALUE! | EH3: =AND(Duty!C34,"AAAAAG/a/ok=") -> #VALUE! | EI3: =AND(Duty!D34,"AAAAAG/a/oo=") -> #VALUE! | EJ3: =AND(Duty!#REF!,"AAAAAG/a/os=") -> #REF! | EK3: =AND(Duty!G34,"AAAAAG/a/ow=") -> #VALUE! | EL3: =AND(Duty!H34,"AAAAAG/a/o0=") -> #VALUE! | EM3: =AND(Duty!I34,"AAAAAG/a/o4=") -> #VALUE! | EN3: =AND(Duty!J34,"AAAAAG/a/o8=") -> #VALUE! | EO3: =AND(Duty!K34,"AAAAAG/a/pA=") -> #VALUE! | EP3: =AND(Duty!L34,"AAAAAG/a/pE=") -> #VALUE! | EQ3: =AND(Duty!M34,"AAAAAG/a/pI=") -> #VALUE! | ER3: =AND(Duty!#REF!,"AAAAAG/a/pM=") -> #REF! | ES3: =AND(Duty!N34,"AAAAAG/a/pQ=") -> #VALUE! | ET3: =AND(Duty!#REF!,"AAAAAG/a/pU=") -> #REF! | EU3: =AND(Duty!#REF!,"AAAAAG/a/pY=") -> #REF! | EV3: =AND(Duty!#REF!,"AAAAAG/a/pc=") -> #REF! | EW3: =AND(Duty!O34,"AAAAAG/a/pg=") -> #VALUE! | EX3: 0 | EY3: =AND(Duty!A35,"AAAAAG/a/po=") -> #VALUE! | EZ3: =AND(Duty!B35,"AAAAAG/a/ps=") -> #VALUE! | FA3: =AND(Duty!C35,"AAAAAG/a/pw=") -> #VALUE! | FB3: =AND(Duty!D35,"AAAAAG/a/p0=") -> #VALUE! | FC3: =AND(Duty!#REF!,"AAAAAG/a/p4=") -> #REF! | FD3: =AND(Duty!G35,"AAAAAG/a/p8=") -> #VALUE! | FE3: =AND(Duty!H35,"AAAAAG/a/qA=") -> #VALUE! | FF3: =AND(Duty!I35,"AAAAAG/a/qE=") -> #VALUE! | FG3: =AND(Duty!J35,"AAAAAG/a/qI=") -> #VALUE! | FH3: =AND(Duty!K35,"AAAAAG/a/qM=") -> #VALUE! | FI3: =AND(Duty!L35,"AAAAAG/a/qQ=") -> #VALUE! | FJ3: =AND(Duty!M35,"AAAAAG/a/qU=") -> #VALUE! | FK3: =AND(Duty!#REF!,"AAAAAG/a/qY=") -> #REF! | FL3: =AND(Duty!N35,"AAAAAG/a/qc=") -> #VALUE! | FM3: =AND(Duty!#REF!,"AAAAAG/a/qg=") -> #REF! | FN3: =AND(Duty!#REF!,"AAAAAG/a/qk=") -> #REF! | FO3: =AND(Duty!#REF!,"AAAAAG/a/qo=") -> #REF! | FP3: =AND(Duty!O35,"AAAAAG/a/qs=") -> #VALUE! | FQ3: =IF(Duty!#REF!,"AAAAAG/a/qw=",0) -> #REF! | FR3: =AND(Duty!#REF!,"AAAAAG/a/q0=") -> #REF! | FS3: =AND(Duty!#REF!,"AAAAAG/a/q4=") -> #REF! | FT3: =AND(Duty!#REF!,"AAAAAG/a/q8=") -> #REF! | FU3: =AND(Duty!#REF!,"AAAAAG/a/rA=") -> #REF! | FV3: =AND(Duty!#REF!,"AAAAAG/a/rE=") -> #REF! | FW3: =AND(Duty!#REF!,"AAAAAG/a/rI=") -> #REF! | FX3: =AND(Duty!#REF!,"AAAAAG/a/rM=") -> #REF! | FY3: =AND(Duty!#REF!,"AAAAAG/a/rQ=") -> #REF! | FZ3: =AND(Duty!#REF!,"AAAAAG/a/rU=") -> #REF! | GA3: =AND(Duty!#REF!,"AAAAAG/a/rY=") -> #REF! | GB3: =AND(Duty!#REF!,"AAAAAG/a/rc=") -> #REF! | GC3: =AND(Duty!#REF!,"AAAAAG/a/rg=") -> #REF! | GD3: =AND(Duty!#REF!,"AAAAAG/a/rk=") -> #REF! | GE3: =AND(Duty!#REF!,"AAAAAG/a/ro=") -> #REF! | GF3: =AND(Duty!#REF!,"AAAAAG/a/rs=") -> #REF! | GG3: =AND(Duty!#REF!,"AAAAAG/a/rw=") -> #REF! | GH3: =AND(Duty!#REF!,"AAAAAG/a/r0=") -> #REF! | GI3: =AND(Duty!#REF!,"AAAAAG/a/r4=") -> #REF! | GJ3: 0 | GK3: =AND(Duty!A37,"AAAAAG/a/sA=") -> #VALUE! | GL3: =AND(Duty!B37,"AAAAAG/a/sE=") -> #VALUE! | GM3: =AND(Duty!C37,"AAAAAG/a/sI=") -> #VALUE! | GN3: =AND(Duty!D36,"AAAAAG/a/sM=") -> #VALUE! | GO3: =AND(Duty!#REF!,"AAAAAG/a/sQ=") -> #REF! | GP3: =AND(Duty!G37,"AAAAAG/a/sU=") -> #VALUE! | GQ3: =AND(Duty!H37,"AAAAAG/a/sY=") -> #VALUE! | GR3: =AND(Duty!I37,"AAAAAG/a/sc=") -> #VALUE! | GS3: =AND(Duty!J37,"AAAAAG/a/sg=") -> #VALUE! | GT3: =AND(Duty!K37,"AAAAAG/a/sk=") -> #VALUE! | GU3: =AND(Duty!L37,"AAAAAG/a/so=") -> #VALUE! | GV3: =AND(Duty!M37,"AAAAAG/a/ss=") -> #VALUE! | GW3: =AND(Duty!#REF!,"AAAAAG/a/sw=") -> #REF! | GX3: =AND(Duty!N37,"AAAAAG/a/s0=") -> #VALUE! | GY3: =AND(Duty!#REF!,"AAAAAG/a/s4=") -> #REF! | GZ3: =AND(Duty!#REF!,"AAAAAG/a/s8=") -> #REF! | HA3: =AND(Duty!#REF!,"AAAAAG/a/tA=") -> #REF! | HB3: =AND(Duty!O37,"AAAAAG/a/tE=") -> #VALUE! | HC3: 0 | HD3: =AND(Duty!A38,"AAAAAG/a/tM=") -> #VALUE! | HE3: =AND(Duty!B38,"AAAAAG/a/tQ=") -> #VALUE! | HF3: =AND(Duty!C38,"AAAAAG/a/tU=") -> #VALUE! | HG3: =AND(Duty!#REF!,"AAAAAG/a/tY=") -> #REF! | HH3: =AND(Duty!#REF!,"AAAAAG/a/tc=") -> #REF! | HI3: =AND(Duty!G38,"AAAAAG/a/tg=") -> #VALUE! | HJ3: =AND(Duty!H38,"AAAAAG/a/tk=") -> #VALUE! | HK3: =AND(Duty!I38,"AAAAAG/a/to=") -> #VALUE! | HL3: =AND(Duty!J38,"AAAAAG/a/ts=") -> #VALUE! | HM3: =AND(Duty!K38,"AAAAAG/a/tw=") -> #VALUE! | HN3: =AND(Duty!L38,"AAAAAG/a/t0=") -> #VALUE! | HO3: =AND(Duty!M38,"AAAAAG/a/t4=") -> #VALUE! | HP3: =AND(Duty!#REF!,"AAAAAG/a/t8=") -> #REF! | HQ3: =AND(Duty!N38,"AAAAAG/a/uA=") -> #VALUE! | HR3: =AND(Duty!#REF!,"AAAAAG/a/uE=") -> #REF! | HS3: =AND(Duty!#REF!,"AAAAAG/a/uI=") -> #REF! | HT3: =AND(Duty!#REF!,"AAAAAG/a/uM=") -> #REF! | HU3: =AND(Duty!O38,"AAAAAG/a/uQ=") -> #VALUE! | HV3: 0 | HW3: =AND(Duty!A39,"AAAAAG/a/uY=") -> #VALUE! | HX3: =AND(Duty!B39,"AAAAAG/a/uc=") -> #VALUE! | HY3: =AND(Duty!C39,"AAAAAG/a/ug=") -> #VALUE! | HZ3: =AND(Duty!#REF!,"AAAAAG/a/uk=") -> #REF! | IA3: =AND(Duty!#REF!,"AAAAAG/a/uo=") -> #REF! | IB3: =AND(Duty!G39,"AAAAAG/a/us=") -> #VALUE! | IC3: =AND(Duty!H39,"AAAAAG/a/uw=") -> #VALUE! | ID3: =AND(Duty!I39,"AAAAAG/a/u0=") -> #VALUE! | IE3: =AND(Duty!J39,"AAAAAG/a/u4=") -> #VALUE! | IF3: =AND(Duty!K39,"AAAAAG/a/u8=") -> #VALUE! | IG3: =AND(Duty!L39,"AAAAAG/a/vA=") -> #VALUE! | IH3: =AND(Duty!M39,"AAAAAG/a/vE=") -> #VALUE! | II3: =AND(Duty!#REF!,"AAAAAG/a/vI=") -> #REF! | IJ3: =AND(Duty!N39,"AAAAAG/a/vM=") -> #VALUE! | IK3: =AND(Duty!#REF!,"AAAAAG/a/vQ=") -> #REF! | IL3: =AND(Duty!#REF!,"AAAAAG/a/vU=") -> #REF! | IM3: =AND(Duty!#REF!,"AAAAAG/a/vY=") -> #REF! | IN3: =AND(Duty!O39,"AAAAAG/a/vc=") -> #VALUE! | IO3: 0 | IP3: =AND(Duty!A40,"AAAAAG/a/vk=") -> #VALUE! | IQ3: =AND(Duty!B40,"AAAAAG/a/vo=") -> #VALUE! | IR3: =AND(Duty!C40,"AAAAAG/a/vs=") -> #VALUE! | IS3: =AND(Duty!#REF!,"AAAAAG/a/vw=") -> #REF! | IT3: =AND(Duty!#REF!,"AAAAAG/a/v0=") -> #REF! | IU3: =AND(Duty!G40,"AAAAAG/a/v4=") -> #VALUE! | IV3: =AND(Duty!H40,"AAAAAG/a/v8=") -> #VALUE!
A4: =AND(Duty!I40,"AAAAAC35nwA=") -> #VALUE! | B4: =AND(Duty!J40,"AAAAAC35nwE=") -> #VALUE! | C4: =AND(Duty!K40,"AAAAAC35nwI=") -> #VALUE! | D4: =AND(Duty!L40,"AAAAAC35nwM=") -> #VALUE! | E4: =AND(Duty!M40,"AAAAAC35nwQ=") -> #VALUE! | F4: =AND(Duty!#REF!,"AAAAAC35nwU=") -> #REF! | G4: =AND(Duty!N40,"AAAAAC35nwY=") -> #VALUE! | H4: =AND(Duty!#REF!,"AAAAAC35nwc=") -> #REF! | I4: =AND(Duty!#REF!,"AAAAAC35nwg=") -> #REF! | J4: =AND(Duty!#REF!,"AAAAAC35nwk=") -> #REF! | K4: =AND(Duty!O40,"AAAAAC35nwo=") -> #VALUE! | L4: 0 | M4: =AND(Duty!A41,"AAAAAC35nww=") -> #VALUE! | N4: =AND(Duty!B41,"AAAAAC35nw0=") -> #VALUE! | O4: =AND(Duty!C41,"AAAAAC35nw4=") -> #VALUE! | P4: =AND(Duty!#REF!,"AAAAAC35nw8=") -> #REF! | Q4: =AND(Duty!#REF!,"AAAAAC35nxA=") -> #REF! | R4: =AND(Duty!G41,"AAAAAC35nxE=") -> #VALUE! | S4: =AND(Duty!H41,"AAAAAC35nxI=") -> #VALUE! | T4: =AND(Duty!I41,"AAAAAC35nxM=") -> #VALUE! | U4: =AND(Duty!J41,"AAAAAC35nxQ=") -> #VALUE! | V4: =AND(Duty!K41,"AAAAAC35nxU=") -> #VALUE! | W4: =AND(Duty!L41,"AAAAAC35nxY=") -> #VALUE! | X4: =AND(Duty!M41,"AAAAAC35nxc=") -> #VALUE! | Y4: =AND(Duty!#REF!,"AAAAAC35nxg=") -> #REF! | Z4: =AND(Duty!N41,"AAAAAC35nxk=") -> #VALUE! | AA4: =AND(Duty!#REF!,"AAAAAC35nxo=") -> #REF! | AB4: =AND(Duty!#REF!,"AAAAAC35nxs=") -> #REF! | AC4: =AND(Duty!#REF!,"AAAAAC35nxw=") -> #REF! | AD4: =AND(Duty!O41,"AAAAAC35nx0=") -> #VALUE! | AE4: 0 | AF4: =AND(Duty!A42,"AAAAAC35nx8=") -> #VALUE! | AG4: =AND(Duty!B42,"AAAAAC35nyA=") -> #VALUE! | AH4: =AND(Duty!C42,"AAAAAC35nyE=") -> #VALUE! | AI4: =AND(Duty!#REF!,"AAAAAC35nyI=") -> #REF! | AJ4: =AND(Duty!#REF!,"AAAAAC35nyM=") -> #REF! | AK4: =AND(Duty!G42,"AAAAAC35nyQ=") -> #VALUE! | AL4: =AND(Duty!H42,"AAAAAC35nyU=") -> #VALUE! | AM4: =AND(Duty!I42,"AAAAAC35nyY=") -> #VALUE! | AN4: =AND(Duty!J42,"AAAAAC35nyc=") -> #VALUE! | AO4: =AND(Duty!K42,"AAAAAC35nyg=") -> #VALUE! | AP4: =AND(Duty!L42,"AAAAAC35nyk=") -> #VALUE! | AQ4: =AND(Duty!M42,"AAAAAC35nyo=") -> #VALUE! | AR4: =AND(Duty!#REF!,"AAAAAC35nys=") -> #REF! | AS4: =AND(Duty!N42,"AAAAAC35nyw=") -> #VALUE! | AT4: =AND(Duty!#REF!,"AAAAAC35ny0=") -> #REF! | AU4: =AND(Duty!#REF!,"AAAAAC35ny4=") -> #REF! | AV4: =AND(Duty!#REF!,"AAAAAC35ny8=") -> #REF! | AW4: =AND(Duty!O42,"AAAAAC35nzA=") -> #VALUE! | AX4: 0 | AY4: =AND(Duty!A36,"AAAAAC35nzI=") -> #VALUE! | AZ4: =AND(Duty!B36,"AAAAAC35nzM=") -> #VALUE! | BA4: =AND(Duty!C36,"AAAAAC35nzQ=") -> #VALUE! | BB4: =AND(Duty!#REF!,"AAAAAC35nzU=") -> #REF! | BC4: =AND(Duty!#REF!,"AAAAAC35nzY=") -> #REF! | BD4: =AND(Duty!G36,"AAAAAC35nzc=") -> #VALUE! | BE4: =AND(Duty!H36,"AAAAAC35nzg=") -> #VALUE! | BF4: =AND(Duty!I36,"AAAAAC35nzk=") -> #VALUE! | BG4: =AND(Duty!J36,"AAAAAC35nzo=") -> #VALUE! | BH4: =AND(Duty!K36,"AAAAAC35nzs=") -> #VALUE! | BI4: =AND(Duty!L36,"AAAAAC35nzw=") -> #VALUE! | BJ4: =AND(Duty!M36,"AAAAAC35nz0=") -> #VALUE! | BK4: =AND(Duty!#REF!,"AAAAAC35nz4=") -> #REF! | BL4: =AND(Duty!N36,"AAAAAC35nz8=") -> #VALUE! | BM4: =AND(Duty!#REF!,"AAAAAC35n0A=") -> #REF! | BN4: =AND(Duty!#REF!,"AAAAAC35n0E=") -> #REF! | BO4: =AND(Duty!#REF!,"AAAAAC35n0I=") -> #REF! | BP4: =AND(Duty!O36,"AAAAAC35n0M=") -> #VALUE! | BQ4: =IF(Duty!#REF!,"AAAAAC35n0Q=",0) -> #REF! | BR4: AAAAAC35n0U= | BS4: #VALUE!:notNumber | BT4: #VALUE!:notNumber | BU4: #VALUE!:notNumber | BV4: =IF(Duty!#REF!,"AAAAAC35n0k=",0) -> #REF! | BW4: #VALUE!:notNumber | BX4: #VALUE!:notNumber | BY4: 0 | BZ4: 0 | CA4: 0 | CB4: 0 | CC4: 0 | CD4: 0 | CE4: 0 | CF4: 0 | CG4: 0 | CH4: =IF(Duty!#REF!,"AAAAAC35n1U=",0) -> #REF! | CI4: 0 | CJ4: 0 | CK4: =AND('RC expenses'!A1,"AAAAAC35n1g=") -> #VALUE! | CL4: AAAAAC35n1k= | CM4: AAAAAC35n1o=
A5: #VALUE!:notNumber | B5: =AND(ROARS!A1,"AAAAAHT/fQE=") -> #VALUE! | C5: =AND(ROARS!B1,"AAAAAHT/fQI=") -> #VALUE! | D5: =AND(ROARS!C1,"AAAAAHT/fQM=") -> #VALUE! | E5: =AND(ROARS!D1,"AAAAAHT/fQQ=") -> #VALUE! | F5: =AND(ROARS!E1,"AAAAAHT/fQU=") -> #VALUE! | G5: =AND(ROARS!F1,"AAAAAHT/fQY=") -> #VALUE! | H5: =AND(ROARS!G1,"AAAAAHT/fQc=") -> #VALUE! | I5: =AND(ROARS!H1,"AAAAAHT/fQg=") -> #VALUE! | J5: =AND(ROARS!#REF!,"AAAAAHT/fQk=") -> #REF! | K5: =AND(ROARS!#REF!,"AAAAAHT/fQo=") -> #REF! | L5: =AND(ROARS!#REF!,"AAAAAHT/fQs=") -> #REF! | M5: =AND(ROARS!#REF!,"AAAAAHT/fQw=") -> #REF! | N5: =AND(ROARS!K1,"AAAAAHT/fQ0=") -> #VALUE! | O5: =AND(ROARS!L1,"AAAAAHT/fQ4=") -> #VALUE! | P5: =AND(ROARS!M1,"AAAAAHT/fQ8=") -> #VALUE! | Q5: =AND(ROARS!N1,"AAAAAHT/fRA=") -> #VALUE! | R5: =AND(ROARS!O1,"AAAAAHT/fRE=") -> #VALUE! | S5: =AND(ROARS!P1,"AAAAAHT/fRI=") -> #VALUE! | T5: =AND(ROARS!Q1,"AAAAAHT/fRM=") -> #VALUE! | U5: =AND(ROARS!R1,"AAAAAHT/fRQ=") -> #VALUE! | V5: 0 | W5: =AND(ROARS!A2,"AAAAAHT/fRY=") -> #VALUE! | X5: =AND(ROARS!B2,"AAAAAHT/fRc=") -> #VALUE! | Y5: =AND(ROARS!C2,"AAAAAHT/fRg=") -> #VALUE! | Z5: =AND(ROARS!D2,"AAAAAHT/fRk=") -> #VALUE! | AA5: =AND(ROARS!E2,"AAAAAHT/fRo=") -> #VALUE! | AB5: =AND(ROARS!F2,"AAAAAHT/fRs=") -> #VALUE! | AC5: 0 | AD5: =AND(ROARS!A3,"AAAAAHT/fR0=") -> #VALUE! | AE5: =AND(ROARS!B3,"AAAAAHT/fR4=") -> #VALUE! | AF5: =AND(ROARS!C3,"AAAAAHT/fR8=") -> #VALUE! | AG5: =AND(ROARS!D3,"AAAAAHT/fSA=") -> #VALUE! | AH5: =AND(ROARS!E3,"AAAAAHT/fSE=") -> #VALUE! | AI5: =AND(ROARS!F3,"AAAAAHT/fSI=") -> #VALUE! | AJ5: 0 | AK5: =AND(ROARS!A4,"AAAAAHT/fSQ=") -> #VALUE! | AL5: =AND(ROARS!B4,"AAAAAHT/fSU=") -> #VALUE! | AM5: =AND(ROARS!C4,"AAAAAHT/fSY=") -> #VALUE! | AN5: =AND(ROARS!D4,"AAAAAHT/fSc=") -> #VALUE! | AO5: =AND(ROARS!E4,"AAAAAHT/fSg=") -> #VALUE! | AP5: =AND(ROARS!F4,"AAAAAHT/fSk=") -> #VALUE! | AQ5: 0 | AR5: =AND(ROARS!A5,"AAAAAHT/fSs=") -> #VALUE! | AS5: =AND(ROARS!B5,"AAAAAHT/fSw=") -> #VALUE! | AT5: =AND(ROARS!C5,"AAAAAHT/fS0=") -> #VALUE! | AU5: =AND(ROARS!D5,"AAAAAHT/fS4=") -> #VALUE! | AV5: =AND(ROARS!E5,"AAAAAHT/fS8=") -> #VALUE! | AW5: =AND(ROARS!F5,"AAAAAHT/fTA=") -> #VALUE! | AX5: 0 | AY5: =AND(ROARS!A6,"AAAAAHT/fTI=") -> #VALUE! | AZ5: =AND(ROARS!B6,"AAAAAHT/fTM=") -> #VALUE! | BA5: =AND(ROARS!C6,"AAAAAHT/fTQ=") -> #VALUE! | BB5: =AND(ROARS!D6,"AAAAAHT/fTU=") -> #VALUE! | BC5: =AND(ROARS!E6,"AAAAAHT/fTY=") -> #VALUE! | BD5: =AND(ROARS!F6,"AAAAAHT/fTc=") -> #VALUE! | BE5: 0 | BF5: =AND(ROARS!A7,"AAAAAHT/fTk=") -> #VALUE! | BG5: =AND(ROARS!B7,"AAAAAHT/fTo=") -> #VALUE! | BH5: =AND(ROARS!C7,"AAAAAHT/fTs=") -> #VALUE! | BI5: =AND(ROARS!D7,"AAAAAHT/fTw=") -> #VALUE! | BJ5: =AND(ROARS!E7,"AAAAAHT/fT0=") -> #VALUE! | BK5: =AND(ROARS!F7,"AAAAAHT/fT4=") -> #VALUE! | BL5: 0 | BM5: =AND(ROARS!A8,"AAAAAHT/fUA=") -> #VALUE! | BN5: =AND(ROARS!B8,"AAAAAHT/fUE=") -> #VALUE! | BO5: =AND(ROARS!C8,"AAAAAHT/fUI=") -> #VALUE! | BP5: =AND(ROARS!D8,"AAAAAHT/fUM=") -> #VALUE! | BQ5: =AND(ROARS!E8,"AAAAAHT/fUQ=") -> #VALUE! | BR5: =AND(ROARS!F8,"AAAAAHT/fUU=") -> #VALUE! | BS5: 0 | BT5: =AND(ROARS!A9,"AAAAAHT/fUc=") -> #VALUE! | BU5: =AND(ROARS!B9,"AAAAAHT/fUg=") -> #VALUE! | BV5: =AND(ROARS!C9,"AAAAAHT/fUk=") -> #VALUE! | BW5: =AND(ROARS!D9,"AAAAAHT/fUo=") -> #VALUE! | BX5: =AND(ROARS!E9,"AAAAAHT/fUs=") -> #VALUE! | BY5: =AND(ROARS!F9,"AAAAAHT/fUw=") -> #VALUE! | BZ5: #VALUE!:notNumber | CA5: #VALUE!:notNumber | CB5: #VALUE!:notNumber | CC5: AAAAAHT/fVA= | CD5: #VALUE!:notNumber | CE5: AAAAAHT/fVI= | CF5: 0 | CG5: 0 | CH5: #VALUE!:notNumber | CI5: #VALUE!:notNumber | CJ5: 0 | CK5: 0 | CL5: 0 | CM5: 0 | CN5: 0 | CO5: 0 | CP5: 0 | CQ5: 0 | CR5: 0 | CS5: 0 | CT5: =AND('RC expenses'!B1,"AAAAAHT/fWE=") -> #VALUE! | CU5: =AND('RC expenses'!C1,"AAAAAHT/fWI=") -> #VALUE! | CV5: =AND('RC expenses'!D1,"AAAAAHT/fWM=") -> #VALUE! | CW5: =AND('RC expenses'!E1,"AAAAAHT/fWQ=") -> #VALUE! | CX5: =AND('RC expenses'!F1,"AAAAAHT/fWU=") -> #VALUE! | CY5: =AND('RC expenses'!G1,"AAAAAHT/fWY=") -> #VALUE! | CZ5: =AND('RC expenses'!H1,"AAAAAHT/fWc=") -> #VALUE! | DA5: 0 | DB5: =AND('RC expenses'!A2,"AAAAAHT/fWk=") -> #VALUE! | DC5: =AND('RC expenses'!B2,"AAAAAHT/fWo=") -> #VALUE! | DD5: =AND('RC expenses'!C2,"AAAAAHT/fWs=") -> #VALUE! | DE5: =AND('RC expenses'!D2,"AAAAAHT/fWw=") -> #VALUE! | DF5: =AND('RC expenses'!E2,"AAAAAHT/fW0=") -> #VALUE! | DG5: =AND('RC expenses'!F2,"AAAAAHT/fW4=") -> #VALUE! | DH5: =AND('RC expenses'!G2,"AAAAAHT/fW8=") -> #VALUE! | DI5: =AND('RC expenses'!H2,"AAAAAHT/fXA=") -> #VALUE! | DJ5: 0 | DK5: =AND('RC expenses'!A3,"AAAAAHT/fXI=") -> #VALUE! | DL5: =AND('RC expenses'!B3,"AAAAAHT/fXM=") -> #VALUE! | DM5: =AND('RC expenses'!C3,"AAAAAHT/fXQ=") -> #VALUE! | DN5: =AND('RC expenses'!D3,"AAAAAHT/fXU=") -> #VALUE! | DO5: =AND('RC expenses'!E3,"AAAAAHT/fXY=") -> #VALUE! | DP5: =AND('RC expenses'!F3,"AAAAAHT/fXc=") -> #VALUE! | DQ5: =AND('RC expenses'!G3,"AAAAAHT/fXg=") -> #VALUE! | DR5: =AND('RC expenses'!H3,"AAAAAHT/fXk=") -> #VALUE! | DS5: 0 | DT5: =AND('RC expenses'!A4,"AAAAAHT/fXs=") -> #VALUE! | DU5: =AND('RC expenses'!B4,"AAAAAHT/fXw=") -> #VALUE! | DV5: =AND('RC expenses'!C4,"AAAAAHT/fX0=") -> #VALUE! | DW5: =AND('RC expenses'!D4,"AAAAAHT/fX4=") -> #VALUE! | DX5: =AND('RC expenses'!E4,"AAAAAHT/fX8=") -> #VALUE! | DY5: =AND('RC expenses'!F4,"AAAAAHT/fYA=") -> #VALUE! | DZ5: =AND('RC expenses'!G4,"AAAAAHT/fYE=") -> #VALUE! | EA5: =AND('RC expenses'!H4,"AAAAAHT/fYI=") -> #VALUE! | EB5: 0 | EC5: =AND('RC expenses'!A5,"AAAAAHT/fYQ=") -> #VALUE! | ED5: =AND('RC expenses'!B5,"AAAAAHT/fYU=") -> #VALUE! | EE5: =AND('RC expenses'!C5,"AAAAAHT/fYY=") -> #VALUE! | EF5: =AND('RC expenses'!D5,"AAAAAHT/fYc=") -> #VALUE! | EG5: =AND('RC expenses'!E5,"AAAAAHT/fYg=") -> #VALUE! | EH5: =AND('RC expenses'!F5,"AAAAAHT/fYk=") -> #VALUE! | EI5: =AND('RC expenses'!G5,"AAAAAHT/fYo=") -> #VALUE! | EJ5: =AND('RC expenses'!H5,"AAAAAHT/fYs=") -> #VALUE! | EK5: 0 | EL5: =AND('RC expenses'!A6,"AAAAAHT/fY0=") -> #VALUE! | EM5: =AND('RC expenses'!B6,"AAAAAHT/fY4=") -> #VALUE! | EN5: =AND('RC expenses'!C6,"AAAAAHT/fY8=") -> #VALUE! | EO5: =AND('RC expenses'!D6,"AAAAAHT/fZA=") -> #VALUE! | EP5: =AND('RC expenses'!E6,"AAAAAHT/fZE=") -> #VALUE! | EQ5: =AND('RC expenses'!F6,"AAAAAHT/fZI=") -> #VALUE! | ER5: =AND('RC expenses'!G6,"AAAAAHT/fZM=") -> #VALUE! | ES5: =AND('RC expenses'!H6,"AAAAAHT/fZQ=") -> #VALUE! | ET5: 0 | EU5: =AND('RC expenses'!A7,"AAAAAHT/fZY=") -> #VALUE! | EV5: =AND('RC expenses'!B7,"AAAAAHT/fZc=") -> #VALUE! | EW5: =AND('RC expenses'!C7,"AAAAAHT/fZg=") -> #VALUE! | EX5: =AND('RC expenses'!D7,"AAAAAHT/fZk=") -> #VALUE! | EY5: =AND('RC expenses'!E7,"AAAAAHT/fZo=") -> #VALUE! | EZ5: =AND('RC expenses'!F7,"AAAAAHT/fZs=") -> #VALUE! | FA5: =AND('RC expenses'!G7,"AAAAAHT/fZw=") -> #VALUE! | FB5: =AND('RC expenses'!H7,"AAAAAHT/fZ0=") -> #VALUE! | FC5: 0 | FD5: =AND('RC expenses'!A8,"AAAAAHT/fZ8=") -> #VALUE! | FE5: =AND('RC expenses'!B8,"AAAAAHT/faA=") -> #VALUE! | FF5: =AND('RC expenses'!C8,"AAAAAHT/faE=") -> #VALUE! | FG5: =AND('RC expenses'!D8,"AAAAAHT/faI=") -> #VALUE! | FH5: =AND('RC expenses'!E8,"AAAAAHT/faM=") -> #VALUE! | FI5: =AND('RC expenses'!F8,"AAAAAHT/faQ=") -> #VALUE! | FJ5: =AND('RC expenses'!G8,"AAAAAHT/faU=") -> #VALUE! | FK5: =AND('RC expenses'!H8,"AAAAAHT/faY=") -> #VALUE! | FL5: 0 | FM5: =AND('RC expenses'!A9,"AAAAAHT/fag=") -> #VALUE! | FN5: =AND('RC expenses'!B9,"AAAAAHT/fak=") -> #VALUE! | FO5: =AND('RC expenses'!C9,"AAAAAHT/fao=") -> #VALUE! | FP5: =AND('RC expenses'!D9,"AAAAAHT/fas=") -> #VALUE! | FQ5: =AND('RC expenses'!E9,"AAAAAHT/faw=") -> #VALUE! | FR5: =AND('RC expenses'!F9,"AAAAAHT/fa0=") -> #VALUE! | FS5: =AND('RC expenses'!G9,"AAAAAHT/fa4=") -> #VALUE! | FT5: =AND('RC expenses'!H9,"AAAAAHT/fa8=") -> #VALUE! | FU5: 0 | FV5: =AND('RC expenses'!A10,"AAAAAHT/fbE=") -> #VALUE! | FW5: =AND('RC expenses'!B10,"AAAAAHT/fbI=") -> #VALUE! | FX5: =AND('RC expenses'!C10,"AAAAAHT/fbM=") -> #VALUE! | FY5: =AND('RC expenses'!D10,"AAAAAHT/fbQ=") -> #VALUE! | FZ5: =AND('RC expenses'!E10,"AAAAAHT/fbU=") -> #VALUE! | GA5: =AND('RC expenses'!F10,"AAAAAHT/fbY=") -> #VALUE! | GB5: =AND('RC expenses'!G10,"AAAAAHT/fbc=") -> #VALUE! | GC5: =AND('RC expenses'!H10,"AAAAAHT/fbg=") -> #VALUE! | GD5: 0 | GE5: =AND('RC expenses'!A11,"AAAAAHT/fbo=") -> #VALUE! | GF5: =AND('RC expenses'!B11,"AAAAAHT/fbs=") -> #VALUE! | GG5: =AND('RC expenses'!C11,"AAAAAHT/fbw=") -> #VALUE! | GH5: =AND('RC expenses'!D11,"AAAAAHT/fb0=") -> #VALUE! | GI5: =AND('RC expenses'!E11,"AAAAAHT/fb4=") -> #VALUE! | GJ5: =AND('RC expenses'!F11,"AAAAAHT/fb8=") -> #VALUE! | GK5: =AND('RC expenses'!G11,"AAAAAHT/fcA=") -> #VALUE! | GL5: =AND('RC expenses'!H11,"AAAAAHT/fcE=") -> #VALUE! | GM5: 0 | GN5: =AND('RC expenses'!A12,"AAAAAHT/fcM=") -> #VALUE! | GO5: =AND('RC expenses'!B12,"AAAAAHT/fcQ=") -> #VALUE! | GP5: =AND('RC expenses'!C12,"AAAAAHT/fcU=") -> #VALUE! | GQ5: =AND('RC expenses'!D12,"AAAAAHT/fcY=") -> #VALUE! | GR5: =AND('RC expenses'!E12,"AAAAAHT/fcc=") -> #VALUE! | GS5: =AND('RC expenses'!F12,"AAAAAHT/fcg=") -> #VALUE! | GT5: =AND('RC expenses'!G12,"AAAAAHT/fck=") -> #VALUE! | GU5: =AND('RC expenses'!H12,"AAAAAHT/fco=") -> #VALUE! | GV5: 0 | GW5: =AND('RC expenses'!A13,"AAAAAHT/fcw=") -> #VALUE! | GX5: =AND('RC expenses'!B13,"AAAAAHT/fc0=") -> #VALUE! | GY5: =AND('RC expenses'!C13,"AAAAAHT/fc4=") -> #VALUE! | GZ5: =AND('RC expenses'!D13,"AAAAAHT/fc8=") -> #VALUE! | HA5: =AND('RC expenses'!E13,"AAAAAHT/fdA=") -> #VALUE! | HB5: =AND('RC expenses'!F13,"AAAAAHT/fdE=") -> #VALUE! | HC5: =AND('RC expenses'!G13,"AAAAAHT/fdI=") -> #VALUE! | HD5: =AND('RC expenses'!H13,"AAAAAHT/fdM=") -> #VALUE! | HE5: 0 | HF5: =AND('RC expenses'!A14,"AAAAAHT/fdU=") -> #VALUE! | HG5: =AND('RC expenses'!B14,"AAAAAHT/fdY=") -> #VALUE! | HH5: =AND('RC expenses'!C14,"AAAAAHT/fdc=") -> #VALUE! | HI5: =AND('RC expenses'!D14,"AAAAAHT/fdg=") -> #VALUE! | HJ5: =AND('RC expenses'!E14,"AAAAAHT/fdk=") -> #VALUE! | HK5: =AND('RC expenses'!F14,"AAAAAHT/fdo=") -> #VALUE! | HL5: =AND('RC expenses'!G14,"AAAAAHT/fds=") -> #VALUE! | HM5: =AND('RC expenses'!H14,"AAAAAHT/fdw=") -> #VALUE! | HN5: 0 | HO5: =AND('RC expenses'!A15,"AAAAAHT/fd4=") -> #VALUE! | HP5: =AND('RC expenses'!B15,"AAAAAHT/fd8=") -> #VALUE! | HQ5: =AND('RC expenses'!C15,"AAAAAHT/feA=") -> #VALUE! | HR5: =AND('RC expenses'!D15,"AAAAAHT/feE=") -> #VALUE! | HS5: =AND('RC expenses'!E15,"AAAAAHT/feI=") -> #VALUE! | HT5: =AND('RC expenses'!F15,"AAAAAHT/feM=") -> #VALUE! | HU5: =AND('RC expenses'!G15,"AAAAAHT/feQ=") -> #VALUE! | HV5: =AND('RC expenses'!H15,"AAAAAHT/feU=") -> #VALUE! | HW5: 0 | HX5: =AND('RC expenses'!A16,"AAAAAHT/fec=") -> #VALUE! | HY5: =AND('RC expenses'!B16,"AAAAAHT/feg=") -> #VALUE! | HZ5: =AND('RC expenses'!C16,"AAAAAHT/fek=") -> #VALUE! | IA5: =AND('RC expenses'!D16,"AAAAAHT/feo=") -> #VALUE! | IB5: =AND('RC expenses'!E16,"AAAAAHT/fes=") -> #VALUE! | IC5: =AND('RC expenses'!F16,"AAAAAHT/few=") -> #VALUE! | ID5: =AND('RC expenses'!G16,"AAAAAHT/fe0=") -> #VALUE! | IE5: =AND('RC expenses'!H16,"AAAAAHT/fe4=") -> #VALUE! | IF5: 0 | IG5: =AND('RC expenses'!A17,"AAAAAHT/ffA=") -> #VALUE! | IH5: =AND('RC expenses'!B17,"AAAAAHT/ffE=") -> #VALUE! | II5: =AND('RC expenses'!C17,"AAAAAHT/ffI=") -> #VALUE! | IJ5: =AND('RC expenses'!D17,"AAAAAHT/ffM=") -> #VALUE! | IK5: =AND('RC expenses'!E17,"AAAAAHT/ffQ=") -> #VALUE! | IL5: =AND('RC expenses'!F17,"AAAAAHT/ffU=") -> #VALUE! | IM5: =AND('RC expenses'!G17,"AAAAAHT/ffY=") -> #VALUE! | IN5: =AND('RC expenses'!H17,"AAAAAHT/ffc=") -> #VALUE! | IO5: 0 | IP5: =AND('RC expenses'!A18,"AAAAAHT/ffk=") -> #VALUE! | IQ5: =AND('RC expenses'!B18,"AAAAAHT/ffo=") -> #VALUE! | IR5: =AND('RC expenses'!C18,"AAAAAHT/ffs=") -> #VALUE! | IS5: =AND('RC expenses'!D18,"AAAAAHT/ffw=") -> #VALUE! | IT5: =AND('RC expenses'!E18,"AAAAAHT/ff0=") -> #VALUE! | IU5: =AND('RC expenses'!F18,"AAAAAHT/ff4=") -> #VALUE! | IV5: =AND('RC expenses'!G18,"AAAAAHT/ff8=") -> #VALUE!
A6: =AND('RC expenses'!H18,"AAAAAFf/fQA=") -> #VALUE! | B6: =IF('RC expenses'!#REF!,"AAAAAFf/fQE=",0) -> #REF! | C6: =AND('RC expenses'!#REF!,"AAAAAFf/fQI=") -> #REF! | D6: =AND('RC expenses'!#REF!,"AAAAAFf/fQM=") -> #REF! | E6: =AND('RC expenses'!#REF!,"AAAAAFf/fQQ=") -> #REF! | F6: =AND('RC expenses'!#REF!,"AAAAAFf/fQU=") -> #REF! | G6: =AND('RC expenses'!#REF!,"AAAAAFf/fQY=") -> #REF! | H6: =AND('RC expenses'!#REF!,"AAAAAFf/fQc=") -> #REF! | I6: =AND('RC expenses'!#REF!,"AAAAAFf/fQg=") -> #REF! | J6: =AND('RC expenses'!#REF!,"AAAAAFf/fQk=") -> #REF! | K6: 0 | L6: 0 | M6: 0 | N6: 0 | O6: 0 | P6: #VALUE!:notNumber | Q6: AAAAAFf/fRA= | R6: AAAAAFf/fRE= | S6: #VALUE!:notNumber | T6: 0 | U6: #VALUE!:notNumber | V6: #VALUE!:notNumber
