Workbook

Sheet Sheet1
A1: Executive Board | B1: Name | C1: Phone Number?
A2: Commodore | B2: Paul Schmidle
A3: Vice Commodore | B3: CDR Chris Wiseman, USN
A4: ER Commodore | B4: Ron Oard
A5: Secretary | B5: Donna DeAscentis
A6: Treasurer | B6: Bill Kneller
A7: Rear Commodores
A8: Sail Training | B8: Dennis Crowley
A9: Facilities Coordinator | B9: Ed Noll
A10: Ground School | B10: Don O'Brien
A11: Race Chairman/PRO | B11: Chuck Kesson | C11: 401 324-9324
A12: Power Squadron | B12: Mike & Jeanne Van Vleck
A13: Cruising Squadron | B13: Larry Newsom
A14: Fleet Captains
A15: Shields Fleet Captain | B15: Ron Oard
A16: Rhodes Fleet Captain | B16: Seth Moyer
A17: PHRF Fleet Captain | B17: Tripp Alyn
A18: Special Assistants
A19: Haul-out Coordinator | B19: Steven Caldwell
A20: TellTale Coordinator | B20: Pat St. Onge
A21: Sail Training Administrator | B21: Tom Gunzelman
A22: Social Coordinator | B22: Mike & Cheryl Marrone
A23: Ship's Store Coordinator | B23: Cheryl Cox
A24: Protest Chair/Sr. Judge | B24: Tripp Alyn

Sheet Sheet2

Sheet Sheet3

Sheet DV-IDENTITY-0
A1: =IF(Sheet1!1:1,"AAAAABa3OwA=",0) -> #VALUE! | B1: =AND(Sheet1!A1,"AAAAABa3OwE=") -> #VALUE! | C1: =AND(Sheet1!B1,"AAAAABa3OwI=") -> #VALUE! | D1: =AND(Sheet1!C1,"AAAAABa3OwM=") -> #VALUE! | E1: =IF(Sheet1!2:2,"AAAAABa3OwQ=",0) -> 0 | F1: =AND(Sheet1!A2,"AAAAABa3OwU=") -> #VALUE! | G1: =AND(Sheet1!B2,"AAAAABa3OwY=") -> #VALUE! | H1: =AND(Sheet1!C2,"AAAAABa3Owc=") -> #VALUE! | I1: =IF(Sheet1!3:3,"AAAAABa3Owg=",0) -> 0 | J1: =AND(Sheet1!A3,"AAAAABa3Owk=") -> #VALUE! | K1: =AND(Sheet1!B3,"AAAAABa3Owo=") -> #VALUE! | L1: =AND(Sheet1!C3,"AAAAABa3Ows=") -> #VALUE! | M1: =IF(Sheet1!4:4,"AAAAABa3Oww=",0) -> 0 | N1: =AND(Sheet1!A4,"AAAAABa3Ow0=") -> #VALUE! | O1: =AND(Sheet1!B4,"AAAAABa3Ow4=") -> #VALUE! | P1: =AND(Sheet1!C4,"AAAAABa3Ow8=") -> #VALUE! | Q1: =IF(Sheet1!5:5,"AAAAABa3OxA=",0) -> 0 | R1: =AND(Sheet1!A5,"AAAAABa3OxE=") -> #VALUE! | S1: =AND(Sheet1!B5,"AAAAABa3OxI=") -> #VALUE! | T1: =AND(Sheet1!C5,"AAAAABa3OxM=") -> #VALUE! | U1: =IF(Sheet1!6:6,"AAAAABa3OxQ=",0) -> 0 | V1: =AND(Sheet1!A6,"AAAAABa3OxU=") -> #VALUE! | W1: =AND(Sheet1!B6,"AAAAABa3OxY=") -> #VALUE! | X1: =AND(Sheet1!C6,"AAAAABa3Oxc=") -> #VALUE! | Y1: =IF(Sheet1!7:7,"AAAAABa3Oxg=",0) -> 0 | Z1: =AND(Sheet1!A7,"AAAAABa3Oxk=") -> #VALUE! | AA1: =AND(Sheet1!B7,"AAAAABa3Oxo=") -> #VALUE! | AB1: =AND(Sheet1!C7,"AAAAABa3Oxs=") -> #VALUE! | AC1: =IF(Sheet1!8:8,"AAAAABa3Oxw=",0) -> 0 | AD1: =AND(Sheet1!A8,"AAAAABa3Ox0=") -> #VALUE! | AE1: =AND(Sheet1!B8,"AAAAABa3Ox4=") -> #VALUE! | AF1: =AND(Sheet1!C8,"AAAAABa3Ox8=") -> #VALUE! | AG1: =IF(Sheet1!9:9,"AAAAABa3OyA=",0) -> 0 | AH1: =AND(Sheet1!A9,"AAAAABa3OyE=") -> #VALUE! | AI1: =AND(Sheet1!B9,"AAAAABa3OyI=") -> #VALUE! | AJ1: =AND(Sheet1!C9,"AAAAABa3OyM=") -> #VALUE! | AK1: =IF(Sheet1!10:10,"AAAAABa3OyQ=",0) -> 0 | AL1: =AND(Sheet1!A10,"AAAAABa3OyU=") -> #VALUE! | AM1: =AND(Sheet1!B10,"AAAAABa3OyY=") -> #VALUE! | AN1: =AND(Sheet1!C10,"AAAAABa3Oyc=") -> #VALUE! | AO1: =IF(Sheet1!11:11,"AAAAABa3Oyg=",0) -> 0 | AP1: =AND(Sheet1!A11,"AAAAABa3Oyk=") -> #VALUE! | AQ1: =AND(Sheet1!B11,"AAAAABa3Oyo=") -> #VALUE! | AR1: =AND(Sheet1!C11,"AAAAABa3Oys=") -> #VALUE! | AS1: =IF(Sheet1!12:12,"AAAAABa3Oyw=",0) -> 0 | AT1: =AND(Sheet1!A12,"AAAAABa3Oy0=") -> #VALUE! | AU1: =AND(Sheet1!B12,"AAAAABa3Oy4=") -> #VALUE! | AV1: =AND(Sheet1!C12,"AAAAABa3Oy8=") -> #VALUE! | AW1: =IF(Sheet1!13:13,"AAAAABa3OzA=",0) -> 0 | AX1: =AND(Sheet1!A13,"AAAAABa3OzE=") -> #VALUE! | AY1: =AND(Sheet1!B13,"AAAAABa3OzI=") -> #VALUE! | AZ1: =AND(Sheet1!C13,"AAAAABa3OzM=") -> #VALUE! | BA1: =IF(Sheet1!14:14,"AAAAABa3OzQ=",0) -> 0 | BB1: =AND(Sheet1!A14,"AAAAABa3OzU=") -> #VALUE! | BC1: =AND(Sheet1!B14,"AAAAABa3OzY=") -> #VALUE! | BD1: =AND(Sheet1!C14,"AAAAABa3Ozc=") -> #VALUE! | BE1: =IF(Sheet1!15:15,"AAAAABa3Ozg=",0) -> 0 | BF1: =AND(Sheet1!A15,"AAAAABa3Ozk=") -> #VALUE! | BG1: =AND(Sheet1!B15,"AAAAABa3Ozo=") -> #VALUE! | BH1: =AND(Sheet1!C15,"AAAAABa3Ozs=") -> #VALUE! | BI1: =IF(Sheet1!16:16,"AAAAABa3Ozw=",0) -> 0 | BJ1: =AND(Sheet1!A16,"AAAAABa3Oz0=") -> #VALUE! | BK1: =AND(Sheet1!B16,"AAAAABa3Oz4=") -> #VALUE! | BL1: =AND(Sheet1!C16,"AAAAABa3Oz8=") -> #VALUE! | BM1: =IF(Sheet1!17:17,"AAAAABa3O0A=",0) -> 0 | BN1: =AND(Sheet1!A17,"AAAAABa3O0E=") -> #VALUE! | BO1: =AND(Sheet1!B17,"AAAAABa3O0I=") -> #VALUE! | BP1: =AND(Sheet1!C17,"AAAAABa3O0M=") -> #VALUE! | BQ1: =IF(Sheet1!18:18,"AAAAABa3O0Q=",0) -> 0 | BR1: =AND(Sheet1!A18,"AAAAABa3O0U=") -> #VALUE! | BS1: =AND(Sheet1!B18,"AAAAABa3O0Y=") -> #VALUE! | BT1: =AND(Sheet1!C18,"AAAAABa3O0c=") -> #VALUE! | BU1: =IF(Sheet1!19:19,"AAAAABa3O0g=",0) -> 0 | BV1: =AND(Sheet1!A19,"AAAAABa3O0k=") -> #VALUE! | BW1: =AND(Sheet1!B19,"AAAAABa3O0o=") -> #VALUE! | BX1: =AND(Sheet1!C19,"AAAAABa3O0s=") -> #VALUE! | BY1: =IF(Sheet1!20:20,"AAAAABa3O0w=",0) -> 0 | BZ1: =AND(Sheet1!A20,"AAAAABa3O00=") -> #VALUE! | CA1: =AND(Sheet1!B20,"AAAAABa3O04=") -> #VALUE! | CB1: =AND(Sheet1!C20,"AAAAABa3O08=") -> #VALUE! | CC1: =IF(Sheet1!21:21,"AAAAABa3O1A=",0) -> 0 | CD1: =AND(Sheet1!A21,"AAAAABa3O1E=") -> #VALUE! | CE1: =AND(Sheet1!B21,"AAAAABa3O1I=") -> #VALUE! | CF1: =AND(Sheet1!C21,"AAAAABa3O1M=") -> #VALUE! | CG1: =IF(Sheet1!22:22,"AAAAABa3O1Q=",0) -> 0 | CH1: =AND(Sheet1!A22,"AAAAABa3O1U=") -> #VALUE! | CI1: =AND(Sheet1!B22,"AAAAABa3O1Y=") -> #VALUE! | CJ1: =AND(Sheet1!C22,"AAAAABa3O1c=") -> #VALUE! | CK1: =IF(Sheet1!23:23,"AAAAABa3O1g=",0) -> 0 | CL1: =AND(Sheet1!A23,"AAAAABa3O1k=") -> #VALUE! | CM1: =AND(Sheet1!B23,"AAAAABa3O1o=") -> #VALUE! | CN1: =AND(Sheet1!C23,"AAAAABa3O1s=") -> #VALUE! | CO1: =IF(Sheet1!24:24,"AAAAABa3O1w=",0) -> 0 | CP1: =AND(Sheet1!A24,"AAAAABa3O10=") -> #VALUE! | CQ1: =AND(Sheet1!B24,"AAAAABa3O14=") -> #VALUE! | CR1: =AND(Sheet1!C24,"AAAAABa3O18=") -> #VALUE! | CS1: =IF(Sheet1!25:25,"AAAAABa3O2A=",0) -> 0 | CT1: =IF(Sheet1!26:26,"AAAAABa3O2E=",0) -> 0 | CU1: =IF(Sheet1!A:A,"AAAAABa3O2I=",0) -> #VALUE! | CV1: =IF(Sheet1!B:B,"AAAAABa3O2M=",0) -> #VALUE! | CW1: =IF(Sheet1!C:C,"AAAAABa3O2Q=",0) -> #VALUE! | CX1: =IF(Sheet2!1:1,"AAAAABa3O2U=",0) -> 0 | CY1: =AND(Sheet2!A1,"AAAAABa3O2Y=") -> #VALUE! | CZ1: =IF(Sheet2!A:A,"AAAAABa3O2c=",0) -> 0 | DA1: =IF(Sheet3!1:1,"AAAAABa3O2g=",0) -> 0 | DB1: =AND(Sheet3!A1,"AAAAABa3O2k=") -> #VALUE! | DC1: =IF(Sheet3!A:A,"AAAAABa3O2o=",0) -> 0 | DD1: AAAAABa3O2s= | DE1: AAAAABa3O2w=
